BEGIN:VCALENDAR
VERSION:2.0
PRODID:-//San José Bahá&#039;í Community - ECPv6.15.20//NONSGML v1.0//EN
CALSCALE:GREGORIAN
METHOD:PUBLISH
X-WR-CALNAME:San José Bahá&#039;í Community
X-ORIGINAL-URL:https://sanjosebahai.org
X-WR-CALDESC:Events for San José Bahá&#039;í Community
REFRESH-INTERVAL;VALUE=DURATION:PT1H
X-Robots-Tag:noindex
X-PUBLISHED-TTL:PT1H
BEGIN:VTIMEZONE
TZID:America/Los_Angeles
BEGIN:DAYLIGHT
TZOFFSETFROM:-0800
TZOFFSETTO:-0700
TZNAME:PDT
DTSTART:20250309T100000
END:DAYLIGHT
BEGIN:STANDARD
TZOFFSETFROM:-0700
TZOFFSETTO:-0800
TZNAME:PST
DTSTART:20251102T090000
END:STANDARD
BEGIN:DAYLIGHT
TZOFFSETFROM:-0800
TZOFFSETTO:-0700
TZNAME:PDT
DTSTART:20260308T100000
END:DAYLIGHT
BEGIN:STANDARD
TZOFFSETFROM:-0700
TZOFFSETTO:-0800
TZNAME:PST
DTSTART:20261101T090000
END:STANDARD
BEGIN:DAYLIGHT
TZOFFSETFROM:-0800
TZOFFSETTO:-0700
TZNAME:PDT
DTSTART:20270314T100000
END:DAYLIGHT
BEGIN:STANDARD
TZOFFSETFROM:-0700
TZOFFSETTO:-0800
TZNAME:PST
DTSTART:20271107T090000
END:STANDARD
END:VTIMEZONE
BEGIN:VEVENT
DTSTART;TZID=America/Los_Angeles:20260130T183000
DTEND;TZID=America/Los_Angeles:20260130T210000
DTSTAMP:20260423T020238
CREATED:20251125T030309Z
LAST-MODIFIED:20260208T020117Z
UID:10005549-1769797800-1769806800@sanjosebahai.org
SUMMARY:Monthly Community Devotional & Fireside
DESCRIPTION:Let us all come together to pray for unity and peace. \n“The tabernacle of unity hath been raised; regard ye not one another as strangers. Ye are the fruits of one tree\, and the leaves of one branch.” ~ Bahá’u’lláh \nPlease join host Vida Eliasieh for this special\, spiritual event on the last Friday of each month. We begin with prayers\, devotions\, and storytelling\, and are sometimes blessed with guest presentations and music! \nBaha’u’llah wrote: “So powerful is the light of unity that it can illuminate the whole earth“.\nBut let us not forget that prayer is only the beginning of the process! We have to do the work. \n\nPotluck dinner and dessert will be served before at 6:30pm. Please arrive 10 minutes early. Thank you! \nInvite friends and family!\n\nThis event is held at the San Jose Baha’i center 945 Willow St. CA 95125
URL:https://sanjosebahai.org/event/monthly-community-devotional-fireside-2-3-2-3-3-7-3-3/
LOCATION:San Jose Bahá’í Center\, 945 Willow Street\, San Jose\, CA\, 95125\, United States
CATEGORIES:Community Activities,Core Activities,Devotional,Firesides,In-Person Event
ATTACH;FMTTYPE=image/jpeg:https://sanjosebahai.org/wp-content/uploads/2022/09/image.jpeg
ORGANIZER;CN="Bah%C3%A1'%C3%ADs of San Jose":MAILTO:secretariat@sanjosebahai.org
END:VEVENT
END:VCALENDAR