BEGIN:VCALENDAR
VERSION:2.0
PRODID:-//San José Bahá&#039;í Community - ECPv6.15.20//NONSGML v1.0//EN
CALSCALE:GREGORIAN
METHOD:PUBLISH
X-WR-CALNAME:San José Bahá&#039;í Community
X-ORIGINAL-URL:https://sanjosebahai.org
X-WR-CALDESC:Events for San José Bahá&#039;í Community
REFRESH-INTERVAL;VALUE=DURATION:PT1H
X-Robots-Tag:noindex
X-PUBLISHED-TTL:PT1H
BEGIN:VTIMEZONE
TZID:America/Los_Angeles
BEGIN:DAYLIGHT
TZOFFSETFROM:-0800
TZOFFSETTO:-0700
TZNAME:PDT
DTSTART:20250309T100000
END:DAYLIGHT
BEGIN:STANDARD
TZOFFSETFROM:-0700
TZOFFSETTO:-0800
TZNAME:PST
DTSTART:20251102T090000
END:STANDARD
BEGIN:DAYLIGHT
TZOFFSETFROM:-0800
TZOFFSETTO:-0700
TZNAME:PDT
DTSTART:20260308T100000
END:DAYLIGHT
BEGIN:STANDARD
TZOFFSETFROM:-0700
TZOFFSETTO:-0800
TZNAME:PST
DTSTART:20261101T090000
END:STANDARD
BEGIN:DAYLIGHT
TZOFFSETFROM:-0800
TZOFFSETTO:-0700
TZNAME:PDT
DTSTART:20270314T100000
END:DAYLIGHT
BEGIN:STANDARD
TZOFFSETFROM:-0700
TZOFFSETTO:-0800
TZNAME:PST
DTSTART:20271107T090000
END:STANDARD
END:VTIMEZONE
BEGIN:VEVENT
DTSTART;TZID=America/Los_Angeles:20260302T190000
DTEND;TZID=America/Los_Angeles:20260302T210000
DTSTAMP:20260421T062131
CREATED:20230615T194439Z
LAST-MODIFIED:20230615T200952Z
UID:10002710-1772478000-1772485200@sanjosebahai.org
SUMMARY:Study Circle: Ruhi Book 2 on Zoom
DESCRIPTION:This group will be studying Ruhi Book 2: Arising to Serve Monday evenings at 7 PM \nbit.ly/sjcmeeting\nMeeting ID: 842 0696 9568\nPasscode: sjcbahai \nTutored by Guity Jam. \nBooks are $5.00 and available from a variety of sources\, including the Baha’i Bookstore Online (https://www.bahaibookstore.com/)
URL:https://sanjosebahai.org/event/study-circle-ruhi-book-2-on-zoom/2026-03-02/
LOCATION:Online
CATEGORIES:Core Activities,Online Event,Study Circle
ATTACH;FMTTYPE=image/jpeg:https://sanjosebahai.org/wp-content/uploads/2018/09/ruhi.jpg
ORGANIZER;CN="Guity Jam":MAILTO:guityjam@gmail.com
END:VEVENT
BEGIN:VEVENT
DTSTART;TZID=America/Los_Angeles:20260309T190000
DTEND;TZID=America/Los_Angeles:20260309T210000
DTSTAMP:20260421T062131
CREATED:20230615T194439Z
LAST-MODIFIED:20230615T200952Z
UID:10002711-1773082800-1773090000@sanjosebahai.org
SUMMARY:Study Circle: Ruhi Book 2 on Zoom
DESCRIPTION:This group will be studying Ruhi Book 2: Arising to Serve Monday evenings at 7 PM \nbit.ly/sjcmeeting\nMeeting ID: 842 0696 9568\nPasscode: sjcbahai \nTutored by Guity Jam. \nBooks are $5.00 and available from a variety of sources\, including the Baha’i Bookstore Online (https://www.bahaibookstore.com/)
URL:https://sanjosebahai.org/event/study-circle-ruhi-book-2-on-zoom/2026-03-09/
LOCATION:Online
CATEGORIES:Core Activities,Online Event,Study Circle
ATTACH;FMTTYPE=image/jpeg:https://sanjosebahai.org/wp-content/uploads/2018/09/ruhi.jpg
ORGANIZER;CN="Guity Jam":MAILTO:guityjam@gmail.com
END:VEVENT
BEGIN:VEVENT
DTSTART;TZID=America/Los_Angeles:20260316T190000
DTEND;TZID=America/Los_Angeles:20260316T210000
DTSTAMP:20260421T062131
CREATED:20230615T194439Z
LAST-MODIFIED:20230615T200952Z
UID:10002712-1773687600-1773694800@sanjosebahai.org
SUMMARY:Study Circle: Ruhi Book 2 on Zoom
DESCRIPTION:This group will be studying Ruhi Book 2: Arising to Serve Monday evenings at 7 PM \nbit.ly/sjcmeeting\nMeeting ID: 842 0696 9568\nPasscode: sjcbahai \nTutored by Guity Jam. \nBooks are $5.00 and available from a variety of sources\, including the Baha’i Bookstore Online (https://www.bahaibookstore.com/)
URL:https://sanjosebahai.org/event/study-circle-ruhi-book-2-on-zoom/2026-03-16/
LOCATION:Online
CATEGORIES:Core Activities,Online Event,Study Circle
ATTACH;FMTTYPE=image/jpeg:https://sanjosebahai.org/wp-content/uploads/2018/09/ruhi.jpg
ORGANIZER;CN="Guity Jam":MAILTO:guityjam@gmail.com
END:VEVENT
BEGIN:VEVENT
DTSTART;TZID=America/Los_Angeles:20260323T190000
DTEND;TZID=America/Los_Angeles:20260323T210000
DTSTAMP:20260421T062131
CREATED:20230615T194439Z
LAST-MODIFIED:20230615T200952Z
UID:10002713-1774292400-1774299600@sanjosebahai.org
SUMMARY:Study Circle: Ruhi Book 2 on Zoom
DESCRIPTION:This group will be studying Ruhi Book 2: Arising to Serve Monday evenings at 7 PM \nbit.ly/sjcmeeting\nMeeting ID: 842 0696 9568\nPasscode: sjcbahai \nTutored by Guity Jam. \nBooks are $5.00 and available from a variety of sources\, including the Baha’i Bookstore Online (https://www.bahaibookstore.com/)
URL:https://sanjosebahai.org/event/study-circle-ruhi-book-2-on-zoom/2026-03-23/
LOCATION:Online
CATEGORIES:Core Activities,Online Event,Study Circle
ATTACH;FMTTYPE=image/jpeg:https://sanjosebahai.org/wp-content/uploads/2018/09/ruhi.jpg
ORGANIZER;CN="Guity Jam":MAILTO:guityjam@gmail.com
END:VEVENT
BEGIN:VEVENT
DTSTART;TZID=America/Los_Angeles:20260330T190000
DTEND;TZID=America/Los_Angeles:20260330T210000
DTSTAMP:20260421T062131
CREATED:20230615T194439Z
LAST-MODIFIED:20230615T200952Z
UID:10002714-1774897200-1774904400@sanjosebahai.org
SUMMARY:Study Circle: Ruhi Book 2 on Zoom
DESCRIPTION:This group will be studying Ruhi Book 2: Arising to Serve Monday evenings at 7 PM \nbit.ly/sjcmeeting\nMeeting ID: 842 0696 9568\nPasscode: sjcbahai \nTutored by Guity Jam. \nBooks are $5.00 and available from a variety of sources\, including the Baha’i Bookstore Online (https://www.bahaibookstore.com/)
URL:https://sanjosebahai.org/event/study-circle-ruhi-book-2-on-zoom/2026-03-30/
LOCATION:Online
CATEGORIES:Core Activities,Online Event,Study Circle
ATTACH;FMTTYPE=image/jpeg:https://sanjosebahai.org/wp-content/uploads/2018/09/ruhi.jpg
ORGANIZER;CN="Guity Jam":MAILTO:guityjam@gmail.com
END:VEVENT
END:VCALENDAR