BEGIN:VCALENDAR
VERSION:2.0
PRODID:-//San José Bahá&#039;í Community - ECPv6.15.20//NONSGML v1.0//EN
CALSCALE:GREGORIAN
METHOD:PUBLISH
X-ORIGINAL-URL:https://sanjosebahai.org
X-WR-CALDESC:Events for San José Bahá&#039;í Community
REFRESH-INTERVAL;VALUE=DURATION:PT1H
X-Robots-Tag:noindex
X-PUBLISHED-TTL:PT1H
BEGIN:VTIMEZONE
TZID:America/Los_Angeles
BEGIN:DAYLIGHT
TZOFFSETFROM:-0800
TZOFFSETTO:-0700
TZNAME:PDT
DTSTART:20250309T100000
END:DAYLIGHT
BEGIN:STANDARD
TZOFFSETFROM:-0700
TZOFFSETTO:-0800
TZNAME:PST
DTSTART:20251102T090000
END:STANDARD
BEGIN:DAYLIGHT
TZOFFSETFROM:-0800
TZOFFSETTO:-0700
TZNAME:PDT
DTSTART:20260308T100000
END:DAYLIGHT
BEGIN:STANDARD
TZOFFSETFROM:-0700
TZOFFSETTO:-0800
TZNAME:PST
DTSTART:20261101T090000
END:STANDARD
BEGIN:DAYLIGHT
TZOFFSETFROM:-0800
TZOFFSETTO:-0700
TZNAME:PDT
DTSTART:20270314T100000
END:DAYLIGHT
BEGIN:STANDARD
TZOFFSETFROM:-0700
TZOFFSETTO:-0800
TZNAME:PST
DTSTART:20271107T090000
END:STANDARD
END:VTIMEZONE
BEGIN:VEVENT
DTSTART;TZID=America/Los_Angeles:20260504T190000
DTEND;TZID=America/Los_Angeles:20260504T210000
DTSTAMP:20260421T141507
CREATED:20230615T194439Z
LAST-MODIFIED:20230615T200952Z
UID:10002719-1777921200-1777928400@sanjosebahai.org
SUMMARY:Study Circle: Ruhi Book 2 on Zoom
DESCRIPTION:This group will be studying Ruhi Book 2: Arising to Serve Monday evenings at 7 PM \nbit.ly/sjcmeeting\nMeeting ID: 842 0696 9568\nPasscode: sjcbahai \nTutored by Guity Jam. \nBooks are $5.00 and available from a variety of sources\, including the Baha’i Bookstore Online (https://www.bahaibookstore.com/)
URL:https://sanjosebahai.org/event/study-circle-ruhi-book-2-on-zoom/2026-05-04/
LOCATION:Online
CATEGORIES:Core Activities,Online Event,Study Circle
ATTACH;FMTTYPE=image/jpeg:https://sanjosebahai.org/wp-content/uploads/2018/09/ruhi.jpg
ORGANIZER;CN="Guity Jam":MAILTO:guityjam@gmail.com
END:VEVENT
BEGIN:VEVENT
DTSTART;TZID=America/Los_Angeles:20260511T190000
DTEND;TZID=America/Los_Angeles:20260511T210000
DTSTAMP:20260421T141507
CREATED:20230615T194439Z
LAST-MODIFIED:20230615T200952Z
UID:10002720-1778526000-1778533200@sanjosebahai.org
SUMMARY:Study Circle: Ruhi Book 2 on Zoom
DESCRIPTION:This group will be studying Ruhi Book 2: Arising to Serve Monday evenings at 7 PM \nbit.ly/sjcmeeting\nMeeting ID: 842 0696 9568\nPasscode: sjcbahai \nTutored by Guity Jam. \nBooks are $5.00 and available from a variety of sources\, including the Baha’i Bookstore Online (https://www.bahaibookstore.com/)
URL:https://sanjosebahai.org/event/study-circle-ruhi-book-2-on-zoom/2026-05-11/
LOCATION:Online
CATEGORIES:Core Activities,Online Event,Study Circle
ATTACH;FMTTYPE=image/jpeg:https://sanjosebahai.org/wp-content/uploads/2018/09/ruhi.jpg
ORGANIZER;CN="Guity Jam":MAILTO:guityjam@gmail.com
END:VEVENT
BEGIN:VEVENT
DTSTART;TZID=America/Los_Angeles:20260518T190000
DTEND;TZID=America/Los_Angeles:20260518T210000
DTSTAMP:20260421T141507
CREATED:20230615T194439Z
LAST-MODIFIED:20230615T200952Z
UID:10002721-1779130800-1779138000@sanjosebahai.org
SUMMARY:Study Circle: Ruhi Book 2 on Zoom
DESCRIPTION:This group will be studying Ruhi Book 2: Arising to Serve Monday evenings at 7 PM \nbit.ly/sjcmeeting\nMeeting ID: 842 0696 9568\nPasscode: sjcbahai \nTutored by Guity Jam. \nBooks are $5.00 and available from a variety of sources\, including the Baha’i Bookstore Online (https://www.bahaibookstore.com/)
URL:https://sanjosebahai.org/event/study-circle-ruhi-book-2-on-zoom/2026-05-18/
LOCATION:Online
CATEGORIES:Core Activities,Online Event,Study Circle
ATTACH;FMTTYPE=image/jpeg:https://sanjosebahai.org/wp-content/uploads/2018/09/ruhi.jpg
ORGANIZER;CN="Guity Jam":MAILTO:guityjam@gmail.com
END:VEVENT
BEGIN:VEVENT
DTSTART;TZID=America/Los_Angeles:20260525T190000
DTEND;TZID=America/Los_Angeles:20260525T210000
DTSTAMP:20260421T141507
CREATED:20230615T194439Z
LAST-MODIFIED:20230615T200952Z
UID:10002722-1779735600-1779742800@sanjosebahai.org
SUMMARY:Study Circle: Ruhi Book 2 on Zoom
DESCRIPTION:This group will be studying Ruhi Book 2: Arising to Serve Monday evenings at 7 PM \nbit.ly/sjcmeeting\nMeeting ID: 842 0696 9568\nPasscode: sjcbahai \nTutored by Guity Jam. \nBooks are $5.00 and available from a variety of sources\, including the Baha’i Bookstore Online (https://www.bahaibookstore.com/)
URL:https://sanjosebahai.org/event/study-circle-ruhi-book-2-on-zoom/2026-05-25/
LOCATION:Online
CATEGORIES:Core Activities,Online Event,Study Circle
ATTACH;FMTTYPE=image/jpeg:https://sanjosebahai.org/wp-content/uploads/2018/09/ruhi.jpg
ORGANIZER;CN="Guity Jam":MAILTO:guityjam@gmail.com
END:VEVENT
END:VCALENDAR