BEGIN:VCALENDAR
VERSION:2.0
PRODID:-//San José Bahá&#039;í Community - ECPv6.15.20//NONSGML v1.0//EN
CALSCALE:GREGORIAN
METHOD:PUBLISH
X-ORIGINAL-URL:https://sanjosebahai.org
X-WR-CALDESC:Events for San José Bahá&#039;í Community
REFRESH-INTERVAL;VALUE=DURATION:PT1H
X-Robots-Tag:noindex
X-PUBLISHED-TTL:PT1H
BEGIN:VTIMEZONE
TZID:America/Los_Angeles
BEGIN:DAYLIGHT
TZOFFSETFROM:-0800
TZOFFSETTO:-0700
TZNAME:PDT
DTSTART:20250309T100000
END:DAYLIGHT
BEGIN:STANDARD
TZOFFSETFROM:-0700
TZOFFSETTO:-0800
TZNAME:PST
DTSTART:20251102T090000
END:STANDARD
BEGIN:DAYLIGHT
TZOFFSETFROM:-0800
TZOFFSETTO:-0700
TZNAME:PDT
DTSTART:20260308T100000
END:DAYLIGHT
BEGIN:STANDARD
TZOFFSETFROM:-0700
TZOFFSETTO:-0800
TZNAME:PST
DTSTART:20261101T090000
END:STANDARD
BEGIN:DAYLIGHT
TZOFFSETFROM:-0800
TZOFFSETTO:-0700
TZNAME:PDT
DTSTART:20270314T100000
END:DAYLIGHT
BEGIN:STANDARD
TZOFFSETFROM:-0700
TZOFFSETTO:-0800
TZNAME:PST
DTSTART:20271107T090000
END:STANDARD
END:VTIMEZONE
BEGIN:VEVENT
DTSTART;TZID=America/Los_Angeles:20260315T180000
DTEND;TZID=America/Los_Angeles:20260315T200000
DTSTAMP:20260421T090359
CREATED:20260304T003417Z
LAST-MODIFIED:20260311T235248Z
UID:10005912-1773597600-1773604800@sanjosebahai.org
SUMMARY:Devotional for World Peace with potluck dinner
DESCRIPTION:On March 15th at 6pm\, the San Jose Bahá’í Center will be hosting a devotional focused on world peace and particularly for Iran. \nThe devotional will be followed by a potluck dinner at sunset. \nPlease feel free to bring a prayer\, scripture\, or poetry focused on peace to share. \n 
URL:https://sanjosebahai.org/event/devotional-for-world-peace-with-potluck-dinner/
LOCATION:San Jose Bahá’í Center\, 945 Willow Street\, San Jose\, CA\, 95125\, United States
ATTACH;FMTTYPE=image/jpeg:https://sanjosebahai.org/wp-content/uploads/2017/11/cropped-DT-candle-in-hand.jpg
ORGANIZER;CN="Bah%C3%A1'%C3%ADs of San Jose":MAILTO:secretariat@sanjosebahai.org
END:VEVENT
END:VCALENDAR