BEGIN:VCALENDAR
VERSION:2.0
PRODID:-//San José Bahá&#039;í Community - ECPv6.15.20//NONSGML v1.0//EN
CALSCALE:GREGORIAN
METHOD:PUBLISH
X-WR-CALNAME:San José Bahá&#039;í Community
X-ORIGINAL-URL:https://sanjosebahai.org
X-WR-CALDESC:Events for San José Bahá&#039;í Community
REFRESH-INTERVAL;VALUE=DURATION:PT1H
X-Robots-Tag:noindex
X-PUBLISHED-TTL:PT1H
BEGIN:VTIMEZONE
TZID:America/Los_Angeles
BEGIN:DAYLIGHT
TZOFFSETFROM:-0800
TZOFFSETTO:-0700
TZNAME:PDT
DTSTART:20240310T100000
END:DAYLIGHT
BEGIN:STANDARD
TZOFFSETFROM:-0700
TZOFFSETTO:-0800
TZNAME:PST
DTSTART:20241103T090000
END:STANDARD
BEGIN:DAYLIGHT
TZOFFSETFROM:-0800
TZOFFSETTO:-0700
TZNAME:PDT
DTSTART:20250309T100000
END:DAYLIGHT
BEGIN:STANDARD
TZOFFSETFROM:-0700
TZOFFSETTO:-0800
TZNAME:PST
DTSTART:20251102T090000
END:STANDARD
BEGIN:DAYLIGHT
TZOFFSETFROM:-0800
TZOFFSETTO:-0700
TZNAME:PDT
DTSTART:20260308T100000
END:DAYLIGHT
BEGIN:STANDARD
TZOFFSETFROM:-0700
TZOFFSETTO:-0800
TZNAME:PST
DTSTART:20261101T090000
END:STANDARD
END:VTIMEZONE
BEGIN:VEVENT
DTSTART;TZID=America/Los_Angeles:20251201T190000
DTEND;TZID=America/Los_Angeles:20251201T210000
DTSTAMP:20260420T035659
CREATED:20230615T194439Z
LAST-MODIFIED:20230615T200952Z
UID:10002697-1764615600-1764622800@sanjosebahai.org
SUMMARY:Study Circle: Ruhi Book 2 on Zoom
DESCRIPTION:This group will be studying Ruhi Book 2: Arising to Serve Monday evenings at 7 PM \nbit.ly/sjcmeeting\nMeeting ID: 842 0696 9568\nPasscode: sjcbahai \nTutored by Guity Jam. \nBooks are $5.00 and available from a variety of sources\, including the Baha’i Bookstore Online (https://www.bahaibookstore.com/)
URL:https://sanjosebahai.org/event/study-circle-ruhi-book-2-on-zoom/2025-12-01/
LOCATION:Online
CATEGORIES:Core Activities,Online Event,Study Circle
ATTACH;FMTTYPE=image/jpeg:https://sanjosebahai.org/wp-content/uploads/2018/09/ruhi.jpg
ORGANIZER;CN="Guity Jam":MAILTO:guityjam@gmail.com
END:VEVENT
BEGIN:VEVENT
DTSTART;TZID=America/Los_Angeles:20251202T190000
DTEND;TZID=America/Los_Angeles:20251202T210000
DTSTAMP:20260420T035659
CREATED:20230615T195114Z
LAST-MODIFIED:20251125T032733Z
UID:10002436-1764702000-1764709200@sanjosebahai.org
SUMMARY:Study Circle: Ruhi Book 1 on Zoom
DESCRIPTION:This group will be studying Book 1: Reflections on the Life of the Spirit Tuesday evenings at 7 PM \nbit.ly/sjcmeeting\nMeeting ID: 842 0696 9568\nPasscode: sjcbahai \nTutored by Guity Jam. \nBooks are $5.00 and available from a variety of sources\, including the Baha’i Bookstore Online (https://www.bahaibookstore.com/)
URL:https://sanjosebahai.org/event/study-circle-ruhi-book-1-on-zoom/2025-12-02/
LOCATION:Online
CATEGORIES:Core Activities,Online Event,Study Circle
ATTACH;FMTTYPE=image/jpeg:https://sanjosebahai.org/wp-content/uploads/2018/09/ruhi.jpg
ORGANIZER;CN="Guity Jam":MAILTO:guityjam@gmail.com
END:VEVENT
BEGIN:VEVENT
DTSTART;TZID=America/Los_Angeles:20251204T160000
DTEND;TZID=America/Los_Angeles:20251204T180000
DTSTAMP:20260420T035659
CREATED:20230615T195810Z
LAST-MODIFIED:20251125T032707Z
UID:10001653-1764864000-1764871200@sanjosebahai.org
SUMMARY:Study Circle: Ruhi Book 10 Unit 3 on Zoom
DESCRIPTION:This group will be studying Book 10 Unit 3 in the Building Vibrant Communities series on Thursday afternoons at 4 PM \nbit.ly/sjcmeeting\nMeeting ID: 842 0696 9568\nPasscode: sjcbahai \nTutored by Guity Jam. \nBooks are $5.00 and available from a variety of sources\, including the Baha’i Bookstore Online (https://www.bahaibookstore.com/)
URL:https://sanjosebahai.org/event/study-circle-ruhi-book-10-unit-3-on-zoom/2025-12-04/
LOCATION:Online
CATEGORIES:Core Activities,Online Event,Study Circle
ATTACH;FMTTYPE=image/jpeg:https://sanjosebahai.org/wp-content/uploads/2018/09/ruhi.jpg
ORGANIZER;CN="Guity Jam":MAILTO:guityjam@gmail.com
END:VEVENT
BEGIN:VEVENT
DTSTART;TZID=America/Los_Angeles:20251204T190000
DTEND;TZID=America/Los_Angeles:20251204T210000
DTSTAMP:20260420T035659
CREATED:20240302T035445Z
LAST-MODIFIED:20251125T032720Z
UID:10002175-1764874800-1764882000@sanjosebahai.org
SUMMARY:Study Circle: Ruhi Book 8 on Zoom
DESCRIPTION:This group will be studying Book 8: The Covenant of Bahá’u’lláh on Thursday evenings at 7 PM \nhttp://bit.ly/sjc-meeting\nMeeting ID: 563 281 5594\nPasscode: 1844 \nTutored by Guity Jam. \nBooks are $5.00 and available from a variety of sources\, including the Baha’i Bookstore Online (https://www.bahaibookstore.com/)
URL:https://sanjosebahai.org/event/study-circle-ruhi-book-8-on-zoom-2/2025-12-04/
LOCATION:Online
CATEGORIES:Core Activities,Online Event,Study Circle
ATTACH;FMTTYPE=image/jpeg:https://sanjosebahai.org/wp-content/uploads/2018/09/ruhi.jpg
ORGANIZER;CN="Guity Jam":MAILTO:guityjam@gmail.com
END:VEVENT
BEGIN:VEVENT
DTSTART;TZID=America/Los_Angeles:20251207T103000
DTEND;TZID=America/Los_Angeles:20251207T113000
DTSTAMP:20260420T035659
CREATED:20250908T200737Z
LAST-MODIFIED:20250908T201141Z
UID:10003239-1765103400-1765107000@sanjosebahai.org
SUMMARY:Weekly Online Deepening: November 28 Letter from the House of Justice
DESCRIPTION:Please join in for this week’s Zoom deepening on Sunday from 10:30 to 11:30 AM.\n\n\nThis Message is the cover story of the Jan/Feb edition of the American Baha’i. It’s the longest-ever Message written by the Universal House of Justice in 60 years.\n>Feel free to invite other Friends. \n\n\n\nJOIN Zoom Meeting: https://zoom.us/j/97509747053?pwd=WisrbXdJNHl0UHNvWUg2bFM0RWVldz09\n\nLinks to study materials: \n\nNational Spiritual Assembly Encourages Study of the Supreme Body’s November 28 Letter\nReflections on the First Century of the Formative Age
URL:https://sanjosebahai.org/event/weekly-online-deepening-november-28-letter-from-the-house-of-justice-2/2025-12-07/
LOCATION:Online
CATEGORIES:Community Activities,Deepening,Online Event,Study Circle
ATTACH;FMTTYPE=image/jpeg:https://sanjosebahai.org/wp-content/uploads/2021/05/999991B4-1363-4D6D-ABCF-A7E6AB473945.jpeg
ORGANIZER;CN="Jim Mulvaney - Sunnyvale":MAILTO:jim@jimmulvaney-ft.com
END:VEVENT
BEGIN:VEVENT
DTSTART;TZID=America/Los_Angeles:20251208T190000
DTEND;TZID=America/Los_Angeles:20251208T210000
DTSTAMP:20260420T035659
CREATED:20230615T194439Z
LAST-MODIFIED:20230615T200952Z
UID:10002698-1765220400-1765227600@sanjosebahai.org
SUMMARY:Study Circle: Ruhi Book 2 on Zoom
DESCRIPTION:This group will be studying Ruhi Book 2: Arising to Serve Monday evenings at 7 PM \nbit.ly/sjcmeeting\nMeeting ID: 842 0696 9568\nPasscode: sjcbahai \nTutored by Guity Jam. \nBooks are $5.00 and available from a variety of sources\, including the Baha’i Bookstore Online (https://www.bahaibookstore.com/)
URL:https://sanjosebahai.org/event/study-circle-ruhi-book-2-on-zoom/2025-12-08/
LOCATION:Online
CATEGORIES:Core Activities,Online Event,Study Circle
ATTACH;FMTTYPE=image/jpeg:https://sanjosebahai.org/wp-content/uploads/2018/09/ruhi.jpg
ORGANIZER;CN="Guity Jam":MAILTO:guityjam@gmail.com
END:VEVENT
BEGIN:VEVENT
DTSTART;TZID=America/Los_Angeles:20251209T190000
DTEND;TZID=America/Los_Angeles:20251209T210000
DTSTAMP:20260420T035659
CREATED:20230615T195114Z
LAST-MODIFIED:20251125T032733Z
UID:10002437-1765306800-1765314000@sanjosebahai.org
SUMMARY:Study Circle: Ruhi Book 1 on Zoom
DESCRIPTION:This group will be studying Book 1: Reflections on the Life of the Spirit Tuesday evenings at 7 PM \nbit.ly/sjcmeeting\nMeeting ID: 842 0696 9568\nPasscode: sjcbahai \nTutored by Guity Jam. \nBooks are $5.00 and available from a variety of sources\, including the Baha’i Bookstore Online (https://www.bahaibookstore.com/)
URL:https://sanjosebahai.org/event/study-circle-ruhi-book-1-on-zoom/2025-12-09/
LOCATION:Online
CATEGORIES:Core Activities,Online Event,Study Circle
ATTACH;FMTTYPE=image/jpeg:https://sanjosebahai.org/wp-content/uploads/2018/09/ruhi.jpg
ORGANIZER;CN="Guity Jam":MAILTO:guityjam@gmail.com
END:VEVENT
BEGIN:VEVENT
DTSTART;TZID=America/Los_Angeles:20251211T160000
DTEND;TZID=America/Los_Angeles:20251211T180000
DTSTAMP:20260420T035659
CREATED:20230615T195810Z
LAST-MODIFIED:20251125T032707Z
UID:10001654-1765468800-1765476000@sanjosebahai.org
SUMMARY:Study Circle: Ruhi Book 10 Unit 3 on Zoom
DESCRIPTION:This group will be studying Book 10 Unit 3 in the Building Vibrant Communities series on Thursday afternoons at 4 PM \nbit.ly/sjcmeeting\nMeeting ID: 842 0696 9568\nPasscode: sjcbahai \nTutored by Guity Jam. \nBooks are $5.00 and available from a variety of sources\, including the Baha’i Bookstore Online (https://www.bahaibookstore.com/)
URL:https://sanjosebahai.org/event/study-circle-ruhi-book-10-unit-3-on-zoom/2025-12-11/
LOCATION:Online
CATEGORIES:Core Activities,Online Event,Study Circle
ATTACH;FMTTYPE=image/jpeg:https://sanjosebahai.org/wp-content/uploads/2018/09/ruhi.jpg
ORGANIZER;CN="Guity Jam":MAILTO:guityjam@gmail.com
END:VEVENT
BEGIN:VEVENT
DTSTART;TZID=America/Los_Angeles:20251211T190000
DTEND;TZID=America/Los_Angeles:20251211T210000
DTSTAMP:20260420T035659
CREATED:20240302T035445Z
LAST-MODIFIED:20251125T032720Z
UID:10002176-1765479600-1765486800@sanjosebahai.org
SUMMARY:Study Circle: Ruhi Book 8 on Zoom
DESCRIPTION:This group will be studying Book 8: The Covenant of Bahá’u’lláh on Thursday evenings at 7 PM \nhttp://bit.ly/sjc-meeting\nMeeting ID: 563 281 5594\nPasscode: 1844 \nTutored by Guity Jam. \nBooks are $5.00 and available from a variety of sources\, including the Baha’i Bookstore Online (https://www.bahaibookstore.com/)
URL:https://sanjosebahai.org/event/study-circle-ruhi-book-8-on-zoom-2/2025-12-11/
LOCATION:Online
CATEGORIES:Core Activities,Online Event,Study Circle
ATTACH;FMTTYPE=image/jpeg:https://sanjosebahai.org/wp-content/uploads/2018/09/ruhi.jpg
ORGANIZER;CN="Guity Jam":MAILTO:guityjam@gmail.com
END:VEVENT
BEGIN:VEVENT
DTSTART;TZID=America/Los_Angeles:20251214T103000
DTEND;TZID=America/Los_Angeles:20251214T113000
DTSTAMP:20260420T035659
CREATED:20250908T200737Z
LAST-MODIFIED:20250908T201141Z
UID:10003240-1765708200-1765711800@sanjosebahai.org
SUMMARY:Weekly Online Deepening: November 28 Letter from the House of Justice
DESCRIPTION:Please join in for this week’s Zoom deepening on Sunday from 10:30 to 11:30 AM.\n\n\nThis Message is the cover story of the Jan/Feb edition of the American Baha’i. It’s the longest-ever Message written by the Universal House of Justice in 60 years.\n>Feel free to invite other Friends. \n\n\n\nJOIN Zoom Meeting: https://zoom.us/j/97509747053?pwd=WisrbXdJNHl0UHNvWUg2bFM0RWVldz09\n\nLinks to study materials: \n\nNational Spiritual Assembly Encourages Study of the Supreme Body’s November 28 Letter\nReflections on the First Century of the Formative Age
URL:https://sanjosebahai.org/event/weekly-online-deepening-november-28-letter-from-the-house-of-justice-2/2025-12-14/
LOCATION:Online
CATEGORIES:Community Activities,Deepening,Online Event,Study Circle
ATTACH;FMTTYPE=image/jpeg:https://sanjosebahai.org/wp-content/uploads/2021/05/999991B4-1363-4D6D-ABCF-A7E6AB473945.jpeg
ORGANIZER;CN="Jim Mulvaney - Sunnyvale":MAILTO:jim@jimmulvaney-ft.com
END:VEVENT
BEGIN:VEVENT
DTSTART;TZID=America/Los_Angeles:20251215T190000
DTEND;TZID=America/Los_Angeles:20251215T210000
DTSTAMP:20260420T035659
CREATED:20230615T194439Z
LAST-MODIFIED:20230615T200952Z
UID:10002699-1765825200-1765832400@sanjosebahai.org
SUMMARY:Study Circle: Ruhi Book 2 on Zoom
DESCRIPTION:This group will be studying Ruhi Book 2: Arising to Serve Monday evenings at 7 PM \nbit.ly/sjcmeeting\nMeeting ID: 842 0696 9568\nPasscode: sjcbahai \nTutored by Guity Jam. \nBooks are $5.00 and available from a variety of sources\, including the Baha’i Bookstore Online (https://www.bahaibookstore.com/)
URL:https://sanjosebahai.org/event/study-circle-ruhi-book-2-on-zoom/2025-12-15/
LOCATION:Online
CATEGORIES:Core Activities,Online Event,Study Circle
ATTACH;FMTTYPE=image/jpeg:https://sanjosebahai.org/wp-content/uploads/2018/09/ruhi.jpg
ORGANIZER;CN="Guity Jam":MAILTO:guityjam@gmail.com
END:VEVENT
BEGIN:VEVENT
DTSTART;TZID=America/Los_Angeles:20251216T190000
DTEND;TZID=America/Los_Angeles:20251216T210000
DTSTAMP:20260420T035659
CREATED:20230615T195114Z
LAST-MODIFIED:20251125T032733Z
UID:10002438-1765911600-1765918800@sanjosebahai.org
SUMMARY:Study Circle: Ruhi Book 1 on Zoom
DESCRIPTION:This group will be studying Book 1: Reflections on the Life of the Spirit Tuesday evenings at 7 PM \nbit.ly/sjcmeeting\nMeeting ID: 842 0696 9568\nPasscode: sjcbahai \nTutored by Guity Jam. \nBooks are $5.00 and available from a variety of sources\, including the Baha’i Bookstore Online (https://www.bahaibookstore.com/)
URL:https://sanjosebahai.org/event/study-circle-ruhi-book-1-on-zoom/2025-12-16/
LOCATION:Online
CATEGORIES:Core Activities,Online Event,Study Circle
ATTACH;FMTTYPE=image/jpeg:https://sanjosebahai.org/wp-content/uploads/2018/09/ruhi.jpg
ORGANIZER;CN="Guity Jam":MAILTO:guityjam@gmail.com
END:VEVENT
BEGIN:VEVENT
DTSTART;TZID=America/Los_Angeles:20251218T160000
DTEND;TZID=America/Los_Angeles:20251218T180000
DTSTAMP:20260420T035659
CREATED:20230615T195810Z
LAST-MODIFIED:20251125T032707Z
UID:10001655-1766073600-1766080800@sanjosebahai.org
SUMMARY:Study Circle: Ruhi Book 10 Unit 3 on Zoom
DESCRIPTION:This group will be studying Book 10 Unit 3 in the Building Vibrant Communities series on Thursday afternoons at 4 PM \nbit.ly/sjcmeeting\nMeeting ID: 842 0696 9568\nPasscode: sjcbahai \nTutored by Guity Jam. \nBooks are $5.00 and available from a variety of sources\, including the Baha’i Bookstore Online (https://www.bahaibookstore.com/)
URL:https://sanjosebahai.org/event/study-circle-ruhi-book-10-unit-3-on-zoom/2025-12-18/
LOCATION:Online
CATEGORIES:Core Activities,Online Event,Study Circle
ATTACH;FMTTYPE=image/jpeg:https://sanjosebahai.org/wp-content/uploads/2018/09/ruhi.jpg
ORGANIZER;CN="Guity Jam":MAILTO:guityjam@gmail.com
END:VEVENT
BEGIN:VEVENT
DTSTART;TZID=America/Los_Angeles:20251218T190000
DTEND;TZID=America/Los_Angeles:20251218T210000
DTSTAMP:20260420T035659
CREATED:20240302T035445Z
LAST-MODIFIED:20251125T032720Z
UID:10002177-1766084400-1766091600@sanjosebahai.org
SUMMARY:Study Circle: Ruhi Book 8 on Zoom
DESCRIPTION:This group will be studying Book 8: The Covenant of Bahá’u’lláh on Thursday evenings at 7 PM \nhttp://bit.ly/sjc-meeting\nMeeting ID: 563 281 5594\nPasscode: 1844 \nTutored by Guity Jam. \nBooks are $5.00 and available from a variety of sources\, including the Baha’i Bookstore Online (https://www.bahaibookstore.com/)
URL:https://sanjosebahai.org/event/study-circle-ruhi-book-8-on-zoom-2/2025-12-18/
LOCATION:Online
CATEGORIES:Core Activities,Online Event,Study Circle
ATTACH;FMTTYPE=image/jpeg:https://sanjosebahai.org/wp-content/uploads/2018/09/ruhi.jpg
ORGANIZER;CN="Guity Jam":MAILTO:guityjam@gmail.com
END:VEVENT
BEGIN:VEVENT
DTSTART;TZID=America/Los_Angeles:20251221T103000
DTEND;TZID=America/Los_Angeles:20251221T113000
DTSTAMP:20260420T035659
CREATED:20250908T200737Z
LAST-MODIFIED:20250908T201141Z
UID:10003241-1766313000-1766316600@sanjosebahai.org
SUMMARY:Weekly Online Deepening: November 28 Letter from the House of Justice
DESCRIPTION:Please join in for this week’s Zoom deepening on Sunday from 10:30 to 11:30 AM.\n\n\nThis Message is the cover story of the Jan/Feb edition of the American Baha’i. It’s the longest-ever Message written by the Universal House of Justice in 60 years.\n>Feel free to invite other Friends. \n\n\n\nJOIN Zoom Meeting: https://zoom.us/j/97509747053?pwd=WisrbXdJNHl0UHNvWUg2bFM0RWVldz09\n\nLinks to study materials: \n\nNational Spiritual Assembly Encourages Study of the Supreme Body’s November 28 Letter\nReflections on the First Century of the Formative Age
URL:https://sanjosebahai.org/event/weekly-online-deepening-november-28-letter-from-the-house-of-justice-2/2025-12-21/
LOCATION:Online
CATEGORIES:Community Activities,Deepening,Online Event,Study Circle
ATTACH;FMTTYPE=image/jpeg:https://sanjosebahai.org/wp-content/uploads/2021/05/999991B4-1363-4D6D-ABCF-A7E6AB473945.jpeg
ORGANIZER;CN="Jim Mulvaney - Sunnyvale":MAILTO:jim@jimmulvaney-ft.com
END:VEVENT
BEGIN:VEVENT
DTSTART;TZID=America/Los_Angeles:20251222T190000
DTEND;TZID=America/Los_Angeles:20251222T210000
DTSTAMP:20260420T035659
CREATED:20230615T194439Z
LAST-MODIFIED:20230615T200952Z
UID:10002700-1766430000-1766437200@sanjosebahai.org
SUMMARY:Study Circle: Ruhi Book 2 on Zoom
DESCRIPTION:This group will be studying Ruhi Book 2: Arising to Serve Monday evenings at 7 PM \nbit.ly/sjcmeeting\nMeeting ID: 842 0696 9568\nPasscode: sjcbahai \nTutored by Guity Jam. \nBooks are $5.00 and available from a variety of sources\, including the Baha’i Bookstore Online (https://www.bahaibookstore.com/)
URL:https://sanjosebahai.org/event/study-circle-ruhi-book-2-on-zoom/2025-12-22/
LOCATION:Online
CATEGORIES:Core Activities,Online Event,Study Circle
ATTACH;FMTTYPE=image/jpeg:https://sanjosebahai.org/wp-content/uploads/2018/09/ruhi.jpg
ORGANIZER;CN="Guity Jam":MAILTO:guityjam@gmail.com
END:VEVENT
BEGIN:VEVENT
DTSTART;TZID=America/Los_Angeles:20251228T103000
DTEND;TZID=America/Los_Angeles:20251228T113000
DTSTAMP:20260420T035659
CREATED:20250908T200737Z
LAST-MODIFIED:20250908T201141Z
UID:10003242-1766917800-1766921400@sanjosebahai.org
SUMMARY:Weekly Online Deepening: November 28 Letter from the House of Justice
DESCRIPTION:Please join in for this week’s Zoom deepening on Sunday from 10:30 to 11:30 AM.\n\n\nThis Message is the cover story of the Jan/Feb edition of the American Baha’i. It’s the longest-ever Message written by the Universal House of Justice in 60 years.\n>Feel free to invite other Friends. \n\n\n\nJOIN Zoom Meeting: https://zoom.us/j/97509747053?pwd=WisrbXdJNHl0UHNvWUg2bFM0RWVldz09\n\nLinks to study materials: \n\nNational Spiritual Assembly Encourages Study of the Supreme Body’s November 28 Letter\nReflections on the First Century of the Formative Age
URL:https://sanjosebahai.org/event/weekly-online-deepening-november-28-letter-from-the-house-of-justice-2/2025-12-28/
LOCATION:Online
CATEGORIES:Community Activities,Deepening,Online Event,Study Circle
ATTACH;FMTTYPE=image/jpeg:https://sanjosebahai.org/wp-content/uploads/2021/05/999991B4-1363-4D6D-ABCF-A7E6AB473945.jpeg
ORGANIZER;CN="Jim Mulvaney - Sunnyvale":MAILTO:jim@jimmulvaney-ft.com
END:VEVENT
BEGIN:VEVENT
DTSTART;TZID=America/Los_Angeles:20251229T190000
DTEND;TZID=America/Los_Angeles:20251229T210000
DTSTAMP:20260420T035659
CREATED:20230615T194439Z
LAST-MODIFIED:20230615T200952Z
UID:10002701-1767034800-1767042000@sanjosebahai.org
SUMMARY:Study Circle: Ruhi Book 2 on Zoom
DESCRIPTION:This group will be studying Ruhi Book 2: Arising to Serve Monday evenings at 7 PM \nbit.ly/sjcmeeting\nMeeting ID: 842 0696 9568\nPasscode: sjcbahai \nTutored by Guity Jam. \nBooks are $5.00 and available from a variety of sources\, including the Baha’i Bookstore Online (https://www.bahaibookstore.com/)
URL:https://sanjosebahai.org/event/study-circle-ruhi-book-2-on-zoom/2025-12-29/
LOCATION:Online
CATEGORIES:Core Activities,Online Event,Study Circle
ATTACH;FMTTYPE=image/jpeg:https://sanjosebahai.org/wp-content/uploads/2018/09/ruhi.jpg
ORGANIZER;CN="Guity Jam":MAILTO:guityjam@gmail.com
END:VEVENT
END:VCALENDAR