BEGIN:VCALENDAR
VERSION:2.0
PRODID:-//San José Bahá&#039;í Community - ECPv6.15.20//NONSGML v1.0//EN
CALSCALE:GREGORIAN
METHOD:PUBLISH
X-ORIGINAL-URL:https://sanjosebahai.org
X-WR-CALDESC:Events for San José Bahá&#039;í Community
REFRESH-INTERVAL;VALUE=DURATION:PT1H
X-Robots-Tag:noindex
X-PUBLISHED-TTL:PT1H
BEGIN:VTIMEZONE
TZID:America/Los_Angeles
BEGIN:DAYLIGHT
TZOFFSETFROM:-0800
TZOFFSETTO:-0700
TZNAME:PDT
DTSTART:20250309T100000
END:DAYLIGHT
BEGIN:STANDARD
TZOFFSETFROM:-0700
TZOFFSETTO:-0800
TZNAME:PST
DTSTART:20251102T090000
END:STANDARD
BEGIN:DAYLIGHT
TZOFFSETFROM:-0800
TZOFFSETTO:-0700
TZNAME:PDT
DTSTART:20260308T100000
END:DAYLIGHT
BEGIN:STANDARD
TZOFFSETFROM:-0700
TZOFFSETTO:-0800
TZNAME:PST
DTSTART:20261101T090000
END:STANDARD
BEGIN:DAYLIGHT
TZOFFSETFROM:-0800
TZOFFSETTO:-0700
TZNAME:PDT
DTSTART:20270314T100000
END:DAYLIGHT
BEGIN:STANDARD
TZOFFSETFROM:-0700
TZOFFSETTO:-0800
TZNAME:PST
DTSTART:20271107T090000
END:STANDARD
END:VTIMEZONE
BEGIN:VEVENT
DTSTART;TZID=America/Los_Angeles:20260801T190000
DTEND;TZID=America/Los_Angeles:20260801T210000
DTSTAMP:20260420T230314
CREATED:20260304T000201Z
LAST-MODIFIED:20260304T001642Z
UID:10004279-1785610800-1785618000@sanjosebahai.org
SUMMARY:Saturday Devotions with Rohaniyeh
DESCRIPTION:Rohaniyeh Shirmohamadi will host an evening devotional in her home usually on the 1st Saturday of each month.\n\nThis in-person event features tempting potluck refreshments and desserts.\n\nDate: 1st Saturday from 7:00 – 9:00\nLocation: 7053 Via Blanca San Jose\, CA 95139\n\nContact Number: (408) 568-1176\n\n\nLooking forward to seeing you!
URL:https://sanjosebahai.org/event/first-saturday-devotions-with-rohaniyeh-2-2-2-2-2-2/2026-08-01/
LOCATION:Shirmohamadi Home\, 7053 Via Blanca\, San Jose\, CA\, 95139\, United States
CATEGORIES:Core Activities,Devotional,In-Person Event
ATTACH;FMTTYPE=image/jpeg:https://sanjosebahai.org/wp-content/uploads/2019/09/The_Bible_Worship_Background.jpg
END:VEVENT
BEGIN:VEVENT
DTSTART;TZID=America/Los_Angeles:20260802T103000
DTEND;TZID=America/Los_Angeles:20260802T113000
DTSTAMP:20260420T230314
CREATED:20260224T164423Z
LAST-MODIFIED:20260224T164540Z
UID:10003273-1785666600-1785670200@sanjosebahai.org
SUMMARY:Weekly Online Deepening: November 28 Letter from the House of Justice
DESCRIPTION:Please join in for this week’s Zoom deepening on Sunday from 10:30 to 11:30 AM.\n\n\nThis Message is the cover story of the Jan/Feb edition of the American Baha’i. It’s the longest-ever Message written by the Universal House of Justice in 60 years.\n>Feel free to invite other Friends. \n\n\n\nJOIN Zoom Meeting: https://zoom.us/j/97509747053?pwd=WisrbXdJNHl0UHNvWUg2bFM0RWVldz09\n\nLinks to study materials: \n\nNational Spiritual Assembly Encourages Study of the Supreme Body’s November 28 Letter\nReflections on the First Century of the Formative Age
URL:https://sanjosebahai.org/event/weekly-online-deepening-november-28-letter-from-the-house-of-justice-2-2/2026-08-02/
LOCATION:Online
CATEGORIES:Community Activities,Deepening,Online Event,Study Circle
ATTACH;FMTTYPE=image/jpeg:https://sanjosebahai.org/wp-content/uploads/2021/05/999991B4-1363-4D6D-ABCF-A7E6AB473945.jpeg
ORGANIZER;CN="Jim Mulvaney - Sunnyvale":MAILTO:jim@jimmulvaney-ft.com
END:VEVENT
BEGIN:VEVENT
DTSTART;TZID=America/Los_Angeles:20260803T190000
DTEND;TZID=America/Los_Angeles:20260803T210000
DTSTAMP:20260420T230314
CREATED:20230615T194439Z
LAST-MODIFIED:20230615T200952Z
UID:10002732-1785783600-1785790800@sanjosebahai.org
SUMMARY:Study Circle: Ruhi Book 2 on Zoom
DESCRIPTION:This group will be studying Ruhi Book 2: Arising to Serve Monday evenings at 7 PM \nbit.ly/sjcmeeting\nMeeting ID: 842 0696 9568\nPasscode: sjcbahai \nTutored by Guity Jam. \nBooks are $5.00 and available from a variety of sources\, including the Baha’i Bookstore Online (https://www.bahaibookstore.com/)
URL:https://sanjosebahai.org/event/study-circle-ruhi-book-2-on-zoom/2026-08-03/
LOCATION:Online
CATEGORIES:Core Activities,Online Event,Study Circle
ATTACH;FMTTYPE=image/jpeg:https://sanjosebahai.org/wp-content/uploads/2018/09/ruhi.jpg
ORGANIZER;CN="Guity Jam":MAILTO:guityjam@gmail.com
END:VEVENT
BEGIN:VEVENT
DTSTART;TZID=America/Los_Angeles:20260804T190000
DTEND;TZID=America/Los_Angeles:20260804T210000
DTSTAMP:20260420T230314
CREATED:20230615T195114Z
LAST-MODIFIED:20251125T032733Z
UID:10002471-1785870000-1785877200@sanjosebahai.org
SUMMARY:Study Circle: Ruhi Book 1 on Zoom
DESCRIPTION:This group will be studying Book 1: Reflections on the Life of the Spirit Tuesday evenings at 7 PM \nbit.ly/sjcmeeting\nMeeting ID: 842 0696 9568\nPasscode: sjcbahai \nTutored by Guity Jam. \nBooks are $5.00 and available from a variety of sources\, including the Baha’i Bookstore Online (https://www.bahaibookstore.com/)
URL:https://sanjosebahai.org/event/study-circle-ruhi-book-1-on-zoom/2026-08-04/
LOCATION:Online
CATEGORIES:Core Activities,Online Event,Study Circle
ATTACH;FMTTYPE=image/jpeg:https://sanjosebahai.org/wp-content/uploads/2018/09/ruhi.jpg
ORGANIZER;CN="Guity Jam":MAILTO:guityjam@gmail.com
END:VEVENT
BEGIN:VEVENT
DTSTART;TZID=America/Los_Angeles:20260806T160000
DTEND;TZID=America/Los_Angeles:20260806T180000
DTSTAMP:20260420T230314
CREATED:20230615T195810Z
LAST-MODIFIED:20251125T032707Z
UID:10001688-1786032000-1786039200@sanjosebahai.org
SUMMARY:Study Circle: Ruhi Book 10 Unit 3 on Zoom
DESCRIPTION:This group will be studying Book 10 Unit 3 in the Building Vibrant Communities series on Thursday afternoons at 4 PM \nbit.ly/sjcmeeting\nMeeting ID: 842 0696 9568\nPasscode: sjcbahai \nTutored by Guity Jam. \nBooks are $5.00 and available from a variety of sources\, including the Baha’i Bookstore Online (https://www.bahaibookstore.com/)
URL:https://sanjosebahai.org/event/study-circle-ruhi-book-10-unit-3-on-zoom/2026-08-06/
LOCATION:Online
CATEGORIES:Core Activities,Online Event,Study Circle
ATTACH;FMTTYPE=image/jpeg:https://sanjosebahai.org/wp-content/uploads/2018/09/ruhi.jpg
ORGANIZER;CN="Guity Jam":MAILTO:guityjam@gmail.com
END:VEVENT
BEGIN:VEVENT
DTSTART;TZID=America/Los_Angeles:20260806T190000
DTEND;TZID=America/Los_Angeles:20260806T210000
DTSTAMP:20260420T230314
CREATED:20240302T035445Z
LAST-MODIFIED:20251125T032720Z
UID:10002210-1786042800-1786050000@sanjosebahai.org
SUMMARY:Study Circle: Ruhi Book 8 on Zoom
DESCRIPTION:This group will be studying Book 8: The Covenant of Bahá’u’lláh on Thursday evenings at 7 PM \nhttp://bit.ly/sjc-meeting\nMeeting ID: 563 281 5594\nPasscode: 1844 \nTutored by Guity Jam. \nBooks are $5.00 and available from a variety of sources\, including the Baha’i Bookstore Online (https://www.bahaibookstore.com/)
URL:https://sanjosebahai.org/event/study-circle-ruhi-book-8-on-zoom-2/2026-08-06/
LOCATION:Online
CATEGORIES:Core Activities,Online Event,Study Circle
ATTACH;FMTTYPE=image/jpeg:https://sanjosebahai.org/wp-content/uploads/2018/09/ruhi.jpg
ORGANIZER;CN="Guity Jam":MAILTO:guityjam@gmail.com
END:VEVENT
BEGIN:VEVENT
DTSTART;TZID=America/Los_Angeles:20260809T103000
DTEND;TZID=America/Los_Angeles:20260809T113000
DTSTAMP:20260420T230314
CREATED:20260224T164423Z
LAST-MODIFIED:20260224T164540Z
UID:10003274-1786271400-1786275000@sanjosebahai.org
SUMMARY:Weekly Online Deepening: November 28 Letter from the House of Justice
DESCRIPTION:Please join in for this week’s Zoom deepening on Sunday from 10:30 to 11:30 AM.\n\n\nThis Message is the cover story of the Jan/Feb edition of the American Baha’i. It’s the longest-ever Message written by the Universal House of Justice in 60 years.\n>Feel free to invite other Friends. \n\n\n\nJOIN Zoom Meeting: https://zoom.us/j/97509747053?pwd=WisrbXdJNHl0UHNvWUg2bFM0RWVldz09\n\nLinks to study materials: \n\nNational Spiritual Assembly Encourages Study of the Supreme Body’s November 28 Letter\nReflections on the First Century of the Formative Age
URL:https://sanjosebahai.org/event/weekly-online-deepening-november-28-letter-from-the-house-of-justice-2-2/2026-08-09/
LOCATION:Online
CATEGORIES:Community Activities,Deepening,Online Event,Study Circle
ATTACH;FMTTYPE=image/jpeg:https://sanjosebahai.org/wp-content/uploads/2021/05/999991B4-1363-4D6D-ABCF-A7E6AB473945.jpeg
ORGANIZER;CN="Jim Mulvaney - Sunnyvale":MAILTO:jim@jimmulvaney-ft.com
END:VEVENT
BEGIN:VEVENT
DTSTART;TZID=America/Los_Angeles:20260810T190000
DTEND;TZID=America/Los_Angeles:20260810T210000
DTSTAMP:20260420T230314
CREATED:20230615T194439Z
LAST-MODIFIED:20230615T200952Z
UID:10002733-1786388400-1786395600@sanjosebahai.org
SUMMARY:Study Circle: Ruhi Book 2 on Zoom
DESCRIPTION:This group will be studying Ruhi Book 2: Arising to Serve Monday evenings at 7 PM \nbit.ly/sjcmeeting\nMeeting ID: 842 0696 9568\nPasscode: sjcbahai \nTutored by Guity Jam. \nBooks are $5.00 and available from a variety of sources\, including the Baha’i Bookstore Online (https://www.bahaibookstore.com/)
URL:https://sanjosebahai.org/event/study-circle-ruhi-book-2-on-zoom/2026-08-10/
LOCATION:Online
CATEGORIES:Core Activities,Online Event,Study Circle
ATTACH;FMTTYPE=image/jpeg:https://sanjosebahai.org/wp-content/uploads/2018/09/ruhi.jpg
ORGANIZER;CN="Guity Jam":MAILTO:guityjam@gmail.com
END:VEVENT
BEGIN:VEVENT
DTSTART;TZID=America/Los_Angeles:20260811T190000
DTEND;TZID=America/Los_Angeles:20260811T210000
DTSTAMP:20260420T230314
CREATED:20230615T195114Z
LAST-MODIFIED:20251125T032733Z
UID:10002472-1786474800-1786482000@sanjosebahai.org
SUMMARY:Study Circle: Ruhi Book 1 on Zoom
DESCRIPTION:This group will be studying Book 1: Reflections on the Life of the Spirit Tuesday evenings at 7 PM \nbit.ly/sjcmeeting\nMeeting ID: 842 0696 9568\nPasscode: sjcbahai \nTutored by Guity Jam. \nBooks are $5.00 and available from a variety of sources\, including the Baha’i Bookstore Online (https://www.bahaibookstore.com/)
URL:https://sanjosebahai.org/event/study-circle-ruhi-book-1-on-zoom/2026-08-11/
LOCATION:Online
CATEGORIES:Core Activities,Online Event,Study Circle
ATTACH;FMTTYPE=image/jpeg:https://sanjosebahai.org/wp-content/uploads/2018/09/ruhi.jpg
ORGANIZER;CN="Guity Jam":MAILTO:guityjam@gmail.com
END:VEVENT
BEGIN:VEVENT
DTSTART;TZID=America/Los_Angeles:20260813T160000
DTEND;TZID=America/Los_Angeles:20260813T180000
DTSTAMP:20260420T230314
CREATED:20230615T195810Z
LAST-MODIFIED:20251125T032707Z
UID:10001689-1786636800-1786644000@sanjosebahai.org
SUMMARY:Study Circle: Ruhi Book 10 Unit 3 on Zoom
DESCRIPTION:This group will be studying Book 10 Unit 3 in the Building Vibrant Communities series on Thursday afternoons at 4 PM \nbit.ly/sjcmeeting\nMeeting ID: 842 0696 9568\nPasscode: sjcbahai \nTutored by Guity Jam. \nBooks are $5.00 and available from a variety of sources\, including the Baha’i Bookstore Online (https://www.bahaibookstore.com/)
URL:https://sanjosebahai.org/event/study-circle-ruhi-book-10-unit-3-on-zoom/2026-08-13/
LOCATION:Online
CATEGORIES:Core Activities,Online Event,Study Circle
ATTACH;FMTTYPE=image/jpeg:https://sanjosebahai.org/wp-content/uploads/2018/09/ruhi.jpg
ORGANIZER;CN="Guity Jam":MAILTO:guityjam@gmail.com
END:VEVENT
BEGIN:VEVENT
DTSTART;TZID=America/Los_Angeles:20260813T190000
DTEND;TZID=America/Los_Angeles:20260813T210000
DTSTAMP:20260420T230314
CREATED:20240302T035445Z
LAST-MODIFIED:20251125T032720Z
UID:10002211-1786647600-1786654800@sanjosebahai.org
SUMMARY:Study Circle: Ruhi Book 8 on Zoom
DESCRIPTION:This group will be studying Book 8: The Covenant of Bahá’u’lláh on Thursday evenings at 7 PM \nhttp://bit.ly/sjc-meeting\nMeeting ID: 563 281 5594\nPasscode: 1844 \nTutored by Guity Jam. \nBooks are $5.00 and available from a variety of sources\, including the Baha’i Bookstore Online (https://www.bahaibookstore.com/)
URL:https://sanjosebahai.org/event/study-circle-ruhi-book-8-on-zoom-2/2026-08-13/
LOCATION:Online
CATEGORIES:Core Activities,Online Event,Study Circle
ATTACH;FMTTYPE=image/jpeg:https://sanjosebahai.org/wp-content/uploads/2018/09/ruhi.jpg
ORGANIZER;CN="Guity Jam":MAILTO:guityjam@gmail.com
END:VEVENT
BEGIN:VEVENT
DTSTART;TZID=America/Los_Angeles:20260816T103000
DTEND;TZID=America/Los_Angeles:20260816T113000
DTSTAMP:20260420T230314
CREATED:20260224T164423Z
LAST-MODIFIED:20260224T164540Z
UID:10003275-1786876200-1786879800@sanjosebahai.org
SUMMARY:Weekly Online Deepening: November 28 Letter from the House of Justice
DESCRIPTION:Please join in for this week’s Zoom deepening on Sunday from 10:30 to 11:30 AM.\n\n\nThis Message is the cover story of the Jan/Feb edition of the American Baha’i. It’s the longest-ever Message written by the Universal House of Justice in 60 years.\n>Feel free to invite other Friends. \n\n\n\nJOIN Zoom Meeting: https://zoom.us/j/97509747053?pwd=WisrbXdJNHl0UHNvWUg2bFM0RWVldz09\n\nLinks to study materials: \n\nNational Spiritual Assembly Encourages Study of the Supreme Body’s November 28 Letter\nReflections on the First Century of the Formative Age
URL:https://sanjosebahai.org/event/weekly-online-deepening-november-28-letter-from-the-house-of-justice-2-2/2026-08-16/
LOCATION:Online
CATEGORIES:Community Activities,Deepening,Online Event,Study Circle
ATTACH;FMTTYPE=image/jpeg:https://sanjosebahai.org/wp-content/uploads/2021/05/999991B4-1363-4D6D-ABCF-A7E6AB473945.jpeg
ORGANIZER;CN="Jim Mulvaney - Sunnyvale":MAILTO:jim@jimmulvaney-ft.com
END:VEVENT
BEGIN:VEVENT
DTSTART;TZID=America/Los_Angeles:20260817T190000
DTEND;TZID=America/Los_Angeles:20260817T210000
DTSTAMP:20260420T230314
CREATED:20230615T194439Z
LAST-MODIFIED:20230615T200952Z
UID:10002734-1786993200-1787000400@sanjosebahai.org
SUMMARY:Study Circle: Ruhi Book 2 on Zoom
DESCRIPTION:This group will be studying Ruhi Book 2: Arising to Serve Monday evenings at 7 PM \nbit.ly/sjcmeeting\nMeeting ID: 842 0696 9568\nPasscode: sjcbahai \nTutored by Guity Jam. \nBooks are $5.00 and available from a variety of sources\, including the Baha’i Bookstore Online (https://www.bahaibookstore.com/)
URL:https://sanjosebahai.org/event/study-circle-ruhi-book-2-on-zoom/2026-08-17/
LOCATION:Online
CATEGORIES:Core Activities,Online Event,Study Circle
ATTACH;FMTTYPE=image/jpeg:https://sanjosebahai.org/wp-content/uploads/2018/09/ruhi.jpg
ORGANIZER;CN="Guity Jam":MAILTO:guityjam@gmail.com
END:VEVENT
BEGIN:VEVENT
DTSTART;TZID=America/Los_Angeles:20260818T190000
DTEND;TZID=America/Los_Angeles:20260818T210000
DTSTAMP:20260420T230314
CREATED:20230615T195114Z
LAST-MODIFIED:20251125T032733Z
UID:10002473-1787079600-1787086800@sanjosebahai.org
SUMMARY:Study Circle: Ruhi Book 1 on Zoom
DESCRIPTION:This group will be studying Book 1: Reflections on the Life of the Spirit Tuesday evenings at 7 PM \nbit.ly/sjcmeeting\nMeeting ID: 842 0696 9568\nPasscode: sjcbahai \nTutored by Guity Jam. \nBooks are $5.00 and available from a variety of sources\, including the Baha’i Bookstore Online (https://www.bahaibookstore.com/)
URL:https://sanjosebahai.org/event/study-circle-ruhi-book-1-on-zoom/2026-08-18/
LOCATION:Online
CATEGORIES:Core Activities,Online Event,Study Circle
ATTACH;FMTTYPE=image/jpeg:https://sanjosebahai.org/wp-content/uploads/2018/09/ruhi.jpg
ORGANIZER;CN="Guity Jam":MAILTO:guityjam@gmail.com
END:VEVENT
BEGIN:VEVENT
DTSTART;TZID=America/Los_Angeles:20260820T160000
DTEND;TZID=America/Los_Angeles:20260820T180000
DTSTAMP:20260420T230314
CREATED:20230615T195810Z
LAST-MODIFIED:20251125T032707Z
UID:10001690-1787241600-1787248800@sanjosebahai.org
SUMMARY:Study Circle: Ruhi Book 10 Unit 3 on Zoom
DESCRIPTION:This group will be studying Book 10 Unit 3 in the Building Vibrant Communities series on Thursday afternoons at 4 PM \nbit.ly/sjcmeeting\nMeeting ID: 842 0696 9568\nPasscode: sjcbahai \nTutored by Guity Jam. \nBooks are $5.00 and available from a variety of sources\, including the Baha’i Bookstore Online (https://www.bahaibookstore.com/)
URL:https://sanjosebahai.org/event/study-circle-ruhi-book-10-unit-3-on-zoom/2026-08-20/
LOCATION:Online
CATEGORIES:Core Activities,Online Event,Study Circle
ATTACH;FMTTYPE=image/jpeg:https://sanjosebahai.org/wp-content/uploads/2018/09/ruhi.jpg
ORGANIZER;CN="Guity Jam":MAILTO:guityjam@gmail.com
END:VEVENT
BEGIN:VEVENT
DTSTART;TZID=America/Los_Angeles:20260820T190000
DTEND;TZID=America/Los_Angeles:20260820T210000
DTSTAMP:20260420T230314
CREATED:20240302T035445Z
LAST-MODIFIED:20251125T032720Z
UID:10002212-1787252400-1787259600@sanjosebahai.org
SUMMARY:Study Circle: Ruhi Book 8 on Zoom
DESCRIPTION:This group will be studying Book 8: The Covenant of Bahá’u’lláh on Thursday evenings at 7 PM \nhttp://bit.ly/sjc-meeting\nMeeting ID: 563 281 5594\nPasscode: 1844 \nTutored by Guity Jam. \nBooks are $5.00 and available from a variety of sources\, including the Baha’i Bookstore Online (https://www.bahaibookstore.com/)
URL:https://sanjosebahai.org/event/study-circle-ruhi-book-8-on-zoom-2/2026-08-20/
LOCATION:Online
CATEGORIES:Core Activities,Online Event,Study Circle
ATTACH;FMTTYPE=image/jpeg:https://sanjosebahai.org/wp-content/uploads/2018/09/ruhi.jpg
ORGANIZER;CN="Guity Jam":MAILTO:guityjam@gmail.com
END:VEVENT
BEGIN:VEVENT
DTSTART;TZID=America/Los_Angeles:20260823T103000
DTEND;TZID=America/Los_Angeles:20260823T113000
DTSTAMP:20260420T230314
CREATED:20260224T164423Z
LAST-MODIFIED:20260224T164540Z
UID:10003276-1787481000-1787484600@sanjosebahai.org
SUMMARY:Weekly Online Deepening: November 28 Letter from the House of Justice
DESCRIPTION:Please join in for this week’s Zoom deepening on Sunday from 10:30 to 11:30 AM.\n\n\nThis Message is the cover story of the Jan/Feb edition of the American Baha’i. It’s the longest-ever Message written by the Universal House of Justice in 60 years.\n>Feel free to invite other Friends. \n\n\n\nJOIN Zoom Meeting: https://zoom.us/j/97509747053?pwd=WisrbXdJNHl0UHNvWUg2bFM0RWVldz09\n\nLinks to study materials: \n\nNational Spiritual Assembly Encourages Study of the Supreme Body’s November 28 Letter\nReflections on the First Century of the Formative Age
URL:https://sanjosebahai.org/event/weekly-online-deepening-november-28-letter-from-the-house-of-justice-2-2/2026-08-23/
LOCATION:Online
CATEGORIES:Community Activities,Deepening,Online Event,Study Circle
ATTACH;FMTTYPE=image/jpeg:https://sanjosebahai.org/wp-content/uploads/2021/05/999991B4-1363-4D6D-ABCF-A7E6AB473945.jpeg
ORGANIZER;CN="Jim Mulvaney - Sunnyvale":MAILTO:jim@jimmulvaney-ft.com
END:VEVENT
BEGIN:VEVENT
DTSTART;TZID=America/Los_Angeles:20260824T190000
DTEND;TZID=America/Los_Angeles:20260824T210000
DTSTAMP:20260420T230314
CREATED:20230615T194439Z
LAST-MODIFIED:20230615T200952Z
UID:10002735-1787598000-1787605200@sanjosebahai.org
SUMMARY:Study Circle: Ruhi Book 2 on Zoom
DESCRIPTION:This group will be studying Ruhi Book 2: Arising to Serve Monday evenings at 7 PM \nbit.ly/sjcmeeting\nMeeting ID: 842 0696 9568\nPasscode: sjcbahai \nTutored by Guity Jam. \nBooks are $5.00 and available from a variety of sources\, including the Baha’i Bookstore Online (https://www.bahaibookstore.com/)
URL:https://sanjosebahai.org/event/study-circle-ruhi-book-2-on-zoom/2026-08-24/
LOCATION:Online
CATEGORIES:Core Activities,Online Event,Study Circle
ATTACH;FMTTYPE=image/jpeg:https://sanjosebahai.org/wp-content/uploads/2018/09/ruhi.jpg
ORGANIZER;CN="Guity Jam":MAILTO:guityjam@gmail.com
END:VEVENT
BEGIN:VEVENT
DTSTART;TZID=America/Los_Angeles:20260825T190000
DTEND;TZID=America/Los_Angeles:20260825T210000
DTSTAMP:20260420T230314
CREATED:20230615T195114Z
LAST-MODIFIED:20251125T032733Z
UID:10002474-1787684400-1787691600@sanjosebahai.org
SUMMARY:Study Circle: Ruhi Book 1 on Zoom
DESCRIPTION:This group will be studying Book 1: Reflections on the Life of the Spirit Tuesday evenings at 7 PM \nbit.ly/sjcmeeting\nMeeting ID: 842 0696 9568\nPasscode: sjcbahai \nTutored by Guity Jam. \nBooks are $5.00 and available from a variety of sources\, including the Baha’i Bookstore Online (https://www.bahaibookstore.com/)
URL:https://sanjosebahai.org/event/study-circle-ruhi-book-1-on-zoom/2026-08-25/
LOCATION:Online
CATEGORIES:Core Activities,Online Event,Study Circle
ATTACH;FMTTYPE=image/jpeg:https://sanjosebahai.org/wp-content/uploads/2018/09/ruhi.jpg
ORGANIZER;CN="Guity Jam":MAILTO:guityjam@gmail.com
END:VEVENT
BEGIN:VEVENT
DTSTART;TZID=America/Los_Angeles:20260827T160000
DTEND;TZID=America/Los_Angeles:20260827T180000
DTSTAMP:20260420T230314
CREATED:20230615T195810Z
LAST-MODIFIED:20251125T032707Z
UID:10001691-1787846400-1787853600@sanjosebahai.org
SUMMARY:Study Circle: Ruhi Book 10 Unit 3 on Zoom
DESCRIPTION:This group will be studying Book 10 Unit 3 in the Building Vibrant Communities series on Thursday afternoons at 4 PM \nbit.ly/sjcmeeting\nMeeting ID: 842 0696 9568\nPasscode: sjcbahai \nTutored by Guity Jam. \nBooks are $5.00 and available from a variety of sources\, including the Baha’i Bookstore Online (https://www.bahaibookstore.com/)
URL:https://sanjosebahai.org/event/study-circle-ruhi-book-10-unit-3-on-zoom/2026-08-27/
LOCATION:Online
CATEGORIES:Core Activities,Online Event,Study Circle
ATTACH;FMTTYPE=image/jpeg:https://sanjosebahai.org/wp-content/uploads/2018/09/ruhi.jpg
ORGANIZER;CN="Guity Jam":MAILTO:guityjam@gmail.com
END:VEVENT
BEGIN:VEVENT
DTSTART;TZID=America/Los_Angeles:20260827T190000
DTEND;TZID=America/Los_Angeles:20260827T210000
DTSTAMP:20260420T230314
CREATED:20240302T035445Z
LAST-MODIFIED:20251125T032720Z
UID:10002213-1787857200-1787864400@sanjosebahai.org
SUMMARY:Study Circle: Ruhi Book 8 on Zoom
DESCRIPTION:This group will be studying Book 8: The Covenant of Bahá’u’lláh on Thursday evenings at 7 PM \nhttp://bit.ly/sjc-meeting\nMeeting ID: 563 281 5594\nPasscode: 1844 \nTutored by Guity Jam. \nBooks are $5.00 and available from a variety of sources\, including the Baha’i Bookstore Online (https://www.bahaibookstore.com/)
URL:https://sanjosebahai.org/event/study-circle-ruhi-book-8-on-zoom-2/2026-08-27/
LOCATION:Online
CATEGORIES:Core Activities,Online Event,Study Circle
ATTACH;FMTTYPE=image/jpeg:https://sanjosebahai.org/wp-content/uploads/2018/09/ruhi.jpg
ORGANIZER;CN="Guity Jam":MAILTO:guityjam@gmail.com
END:VEVENT
BEGIN:VEVENT
DTSTART;TZID=America/Los_Angeles:20260828T183000
DTEND;TZID=America/Los_Angeles:20260828T210000
DTSTAMP:20260420T230314
CREATED:20260404T005010Z
LAST-MODIFIED:20260404T005012Z
UID:10005556-1787941800-1787950800@sanjosebahai.org
SUMMARY:Monthly Community Devotional & Fireside
DESCRIPTION:Let us all come together to pray for unity and peace. \n“The tabernacle of unity hath been raised; regard ye not one another as strangers. Ye are the fruits of one tree\, and the leaves of one branch.” ~ Bahá’u’lláh \nPlease join host Vida Eliasieh for this special\, spiritual event on the last Friday of each month. We begin with prayers\, devotions\, and storytelling\, and are sometimes blessed with guest presentations and music! \nBaha’u’llah wrote: “So powerful is the light of unity that it can illuminate the whole earth“.\nBut let us not forget that prayer is only the beginning of the process! We have to do the work. \n\nPotluck dinner and dessert will be served before at 6:30pm. Please arrive 10 minutes early. Thank you! \nInvite friends and family!\n\nThis event is held at the San Jose Baha’i center 945 Willow St. CA 95125
URL:https://sanjosebahai.org/event/monthly-community-devotional-fireside-2-3-2-3-3-7-3-3-3/2026-08-28/
LOCATION:San Jose Bahá’í Center\, 945 Willow Street\, San Jose\, CA\, 95125\, United States
CATEGORIES:Community Activities,Core Activities,Devotional,Firesides,In-Person Event
ORGANIZER;CN="Bah%C3%A1'%C3%ADs of San Jose":MAILTO:secretariat@sanjosebahai.org
END:VEVENT
BEGIN:VEVENT
DTSTART;TZID=America/Los_Angeles:20260830T103000
DTEND;TZID=America/Los_Angeles:20260830T113000
DTSTAMP:20260420T230314
CREATED:20260224T164423Z
LAST-MODIFIED:20260224T164540Z
UID:10003277-1788085800-1788089400@sanjosebahai.org
SUMMARY:Weekly Online Deepening: November 28 Letter from the House of Justice
DESCRIPTION:Please join in for this week’s Zoom deepening on Sunday from 10:30 to 11:30 AM.\n\n\nThis Message is the cover story of the Jan/Feb edition of the American Baha’i. It’s the longest-ever Message written by the Universal House of Justice in 60 years.\n>Feel free to invite other Friends. \n\n\n\nJOIN Zoom Meeting: https://zoom.us/j/97509747053?pwd=WisrbXdJNHl0UHNvWUg2bFM0RWVldz09\n\nLinks to study materials: \n\nNational Spiritual Assembly Encourages Study of the Supreme Body’s November 28 Letter\nReflections on the First Century of the Formative Age
URL:https://sanjosebahai.org/event/weekly-online-deepening-november-28-letter-from-the-house-of-justice-2-2/2026-08-30/
LOCATION:Online
CATEGORIES:Community Activities,Deepening,Online Event,Study Circle
ATTACH;FMTTYPE=image/jpeg:https://sanjosebahai.org/wp-content/uploads/2021/05/999991B4-1363-4D6D-ABCF-A7E6AB473945.jpeg
ORGANIZER;CN="Jim Mulvaney - Sunnyvale":MAILTO:jim@jimmulvaney-ft.com
END:VEVENT
BEGIN:VEVENT
DTSTART;TZID=America/Los_Angeles:20260831T190000
DTEND;TZID=America/Los_Angeles:20260831T210000
DTSTAMP:20260420T230314
CREATED:20230615T194439Z
LAST-MODIFIED:20230615T200952Z
UID:10002736-1788202800-1788210000@sanjosebahai.org
SUMMARY:Study Circle: Ruhi Book 2 on Zoom
DESCRIPTION:This group will be studying Ruhi Book 2: Arising to Serve Monday evenings at 7 PM \nbit.ly/sjcmeeting\nMeeting ID: 842 0696 9568\nPasscode: sjcbahai \nTutored by Guity Jam. \nBooks are $5.00 and available from a variety of sources\, including the Baha’i Bookstore Online (https://www.bahaibookstore.com/)
URL:https://sanjosebahai.org/event/study-circle-ruhi-book-2-on-zoom/2026-08-31/
LOCATION:Online
CATEGORIES:Core Activities,Online Event,Study Circle
ATTACH;FMTTYPE=image/jpeg:https://sanjosebahai.org/wp-content/uploads/2018/09/ruhi.jpg
ORGANIZER;CN="Guity Jam":MAILTO:guityjam@gmail.com
END:VEVENT
END:VCALENDAR