BEGIN:VCALENDAR
VERSION:2.0
PRODID:-//San José Bahá&#039;í Community - ECPv6.15.20//NONSGML v1.0//EN
CALSCALE:GREGORIAN
METHOD:PUBLISH
X-ORIGINAL-URL:https://sanjosebahai.org
X-WR-CALDESC:Events for San José Bahá&#039;í Community
REFRESH-INTERVAL;VALUE=DURATION:PT1H
X-Robots-Tag:noindex
X-PUBLISHED-TTL:PT1H
BEGIN:VTIMEZONE
TZID:America/Los_Angeles
BEGIN:DAYLIGHT
TZOFFSETFROM:-0800
TZOFFSETTO:-0700
TZNAME:PDT
DTSTART:20240310T100000
END:DAYLIGHT
BEGIN:STANDARD
TZOFFSETFROM:-0700
TZOFFSETTO:-0800
TZNAME:PST
DTSTART:20241103T090000
END:STANDARD
BEGIN:DAYLIGHT
TZOFFSETFROM:-0800
TZOFFSETTO:-0700
TZNAME:PDT
DTSTART:20250309T100000
END:DAYLIGHT
BEGIN:STANDARD
TZOFFSETFROM:-0700
TZOFFSETTO:-0800
TZNAME:PST
DTSTART:20251102T090000
END:STANDARD
BEGIN:DAYLIGHT
TZOFFSETFROM:-0800
TZOFFSETTO:-0700
TZNAME:PDT
DTSTART:20260308T100000
END:DAYLIGHT
BEGIN:STANDARD
TZOFFSETFROM:-0700
TZOFFSETTO:-0800
TZNAME:PST
DTSTART:20261101T090000
END:STANDARD
BEGIN:DAYLIGHT
TZOFFSETFROM:-0800
TZOFFSETTO:-0700
TZNAME:PDT
DTSTART:20270314T100000
END:DAYLIGHT
BEGIN:STANDARD
TZOFFSETFROM:-0700
TZOFFSETTO:-0800
TZNAME:PST
DTSTART:20271107T090000
END:STANDARD
END:VTIMEZONE
BEGIN:VEVENT
DTSTART;TZID=America/Los_Angeles:20260328T180000
DTEND;TZID=America/Los_Angeles:20260328T210000
DTSTAMP:20260420T121203
CREATED:20260208T015900Z
LAST-MODIFIED:20260208T015902Z
UID:10000588-1774720800-1774731600@sanjosebahai.org
SUMMARY:Game Night!
DESCRIPTION:Lovingly hosted by the Mousazadeh family\, Game Nights are on the last Saturday of the month at the Baha’i  Center in San Jose (address below). \nCome one\, come all and bring your favorite board\, card\, and parlor games to share. \nFun\, food\, and fellowship for all ages!
URL:https://sanjosebahai.org/event/game-nights-are-back-2/2026-03-28/
LOCATION:San Jose Bahá’í Center\, 945 Willow Street\, San Jose\, CA\, 95125\, United States
CATEGORIES:Community Activities,In-Person Event,Social Event
ATTACH;FMTTYPE=image/jpeg:https://sanjosebahai.org/wp-content/uploads/2018/02/61uImDBd7L._SX425_.jpg
END:VEVENT
BEGIN:VEVENT
DTSTART;TZID=America/Los_Angeles:20260131T180000
DTEND;TZID=America/Los_Angeles:20260131T210000
DTSTAMP:20260420T121203
CREATED:20230502T223559Z
LAST-MODIFIED:20251125T032544Z
UID:10000586-1769882400-1769893200@sanjosebahai.org
SUMMARY:Game Nights are Back!
DESCRIPTION:Lovingly hosted by the Mousazadeh family\, Game Nights are on the last Saturday of the month at the Baha’i  Center in San Jose (address below). \nCome one\, come all and bring your favorite board\, card\, and parlor games to share. \nFun\, food\, and fellowship for all ages!
URL:https://sanjosebahai.org/event/game-nights-are-back/2026-01-31/
LOCATION:San Jose Bahá’í Center\, 945 Willow Street\, San Jose\, CA\, 95125\, United States
CATEGORIES:Community Activities,In-Person Event,Social Event
ATTACH;FMTTYPE=image/jpeg:https://sanjosebahai.org/wp-content/uploads/2018/02/61uImDBd7L._SX425_.jpg
END:VEVENT
BEGIN:VEVENT
DTSTART;TZID=America/Los_Angeles:20251123T150000
DTEND;TZID=America/Los_Angeles:20251123T170000
DTSTAMP:20260420T121203
CREATED:20251014T173453Z
LAST-MODIFIED:20251015T182107Z
UID:10005105-1763910000-1763917200@sanjosebahai.org
SUMMARY:Ping Pong Open House - with Coach Babak
DESCRIPTION:This is a social event open to all! \nFeel free to drop in anytime between 3-5pm\, bring a friend and wear comfortable shoes. Snacks will be provided in the dining area. \n 
URL:https://sanjosebahai.org/event/ping-pong-open-house-5/
LOCATION:San Jose Bahá’í Center\, 945 Willow Street\, San Jose\, CA\, 95125\, United States
CATEGORIES:Social Event
ATTACH;FMTTYPE=image/jpeg:https://sanjosebahai.org/wp-content/uploads/2024/11/pingpong01.jpg
ORGANIZER;CN="Bah%C3%A1'%C3%ADs of San Jose":MAILTO:secretariat@sanjosebahai.org
END:VEVENT
BEGIN:VEVENT
DTSTART;TZID=America/Los_Angeles:20251025T180000
DTEND;TZID=America/Los_Angeles:20251025T210000
DTSTAMP:20260420T121203
CREATED:20230502T223559Z
LAST-MODIFIED:20251125T032544Z
UID:10000583-1761415200-1761426000@sanjosebahai.org
SUMMARY:Game Nights are Back!
DESCRIPTION:Lovingly hosted by the Mousazadeh family\, Game Nights are on the last Saturday of the month at the Baha’i  Center in San Jose (address below). \nCome one\, come all and bring your favorite board\, card\, and parlor games to share. \nFun\, food\, and fellowship for all ages!
URL:https://sanjosebahai.org/event/game-nights-are-back/2025-10-25/
LOCATION:San Jose Bahá’í Center\, 945 Willow Street\, San Jose\, CA\, 95125\, United States
CATEGORIES:Community Activities,In-Person Event,Social Event
ATTACH;FMTTYPE=image/jpeg:https://sanjosebahai.org/wp-content/uploads/2018/02/61uImDBd7L._SX425_.jpg
END:VEVENT
END:VCALENDAR