BEGIN:VCALENDAR
VERSION:2.0
PRODID:-//San José Bahá&#039;í Community - ECPv6.15.20//NONSGML v1.0//EN
CALSCALE:GREGORIAN
METHOD:PUBLISH
X-ORIGINAL-URL:https://sanjosebahai.org
X-WR-CALDESC:Events for San José Bahá&#039;í Community
REFRESH-INTERVAL;VALUE=DURATION:PT1H
X-Robots-Tag:noindex
X-PUBLISHED-TTL:PT1H
BEGIN:VTIMEZONE
TZID:America/Los_Angeles
BEGIN:DAYLIGHT
TZOFFSETFROM:-0800
TZOFFSETTO:-0700
TZNAME:PDT
DTSTART:20250309T100000
END:DAYLIGHT
BEGIN:STANDARD
TZOFFSETFROM:-0700
TZOFFSETTO:-0800
TZNAME:PST
DTSTART:20251102T090000
END:STANDARD
BEGIN:DAYLIGHT
TZOFFSETFROM:-0800
TZOFFSETTO:-0700
TZNAME:PDT
DTSTART:20260308T100000
END:DAYLIGHT
BEGIN:STANDARD
TZOFFSETFROM:-0700
TZOFFSETTO:-0800
TZNAME:PST
DTSTART:20261101T090000
END:STANDARD
BEGIN:DAYLIGHT
TZOFFSETFROM:-0800
TZOFFSETTO:-0700
TZNAME:PDT
DTSTART:20270314T100000
END:DAYLIGHT
BEGIN:STANDARD
TZOFFSETFROM:-0700
TZOFFSETTO:-0800
TZNAME:PST
DTSTART:20271107T090000
END:STANDARD
END:VTIMEZONE
BEGIN:VEVENT
DTSTART;TZID=America/Los_Angeles:20260301T103000
DTEND;TZID=America/Los_Angeles:20260301T113000
DTSTAMP:20260420T042730
CREATED:20260224T164423Z
LAST-MODIFIED:20260224T164540Z
UID:10003251-1772361000-1772364600@sanjosebahai.org
SUMMARY:Weekly Online Deepening: November 28 Letter from the House of Justice
DESCRIPTION:Please join in for this week’s Zoom deepening on Sunday from 10:30 to 11:30 AM.\n\n\nThis Message is the cover story of the Jan/Feb edition of the American Baha’i. It’s the longest-ever Message written by the Universal House of Justice in 60 years.\n>Feel free to invite other Friends. \n\n\n\nJOIN Zoom Meeting: https://zoom.us/j/97509747053?pwd=WisrbXdJNHl0UHNvWUg2bFM0RWVldz09\n\nLinks to study materials: \n\nNational Spiritual Assembly Encourages Study of the Supreme Body’s November 28 Letter\nReflections on the First Century of the Formative Age
URL:https://sanjosebahai.org/event/weekly-online-deepening-november-28-letter-from-the-house-of-justice-2-2/2026-03-01/
LOCATION:Online
CATEGORIES:Community Activities,Deepening,Online Event,Study Circle
ATTACH;FMTTYPE=image/jpeg:https://sanjosebahai.org/wp-content/uploads/2021/05/999991B4-1363-4D6D-ABCF-A7E6AB473945.jpeg
ORGANIZER;CN="Jim Mulvaney - Sunnyvale":MAILTO:jim@jimmulvaney-ft.com
END:VEVENT
BEGIN:VEVENT
DTSTART;TZID=America/Los_Angeles:20260301T110000
DTEND;TZID=America/Los_Angeles:20260301T120000
DTSTAMP:20260420T042730
CREATED:20260206T191917Z
LAST-MODIFIED:20260206T191917Z
UID:10005798-1772362800-1772366400@sanjosebahai.org
SUMMARY:Ayyam-i-ha Celebration
DESCRIPTION:All are invited to an Ayyam-i-ha celebration hosted by the students and teachers of the Baha’i Family School on Sunday\, March 1st at 11:00 AM at the Baha’i Center (945 Willow Street) \nThere will be music\, games\, and a festive atmosphere!
URL:https://sanjosebahai.org/event/ayyam-i-ha-celebration/
LOCATION:San Jose Bahá’í Center\, 945 Willow Street\, San Jose\, CA\, 95125\, United States
CATEGORIES:Celebrations,Community Activities,Family School Sessions
ATTACH;FMTTYPE=image/jpeg:https://sanjosebahai.org/wp-content/uploads/2019/02/congarats.jpg
END:VEVENT
BEGIN:VEVENT
DTSTART;TZID=America/Los_Angeles:20260301T193000
DTEND;TZID=America/Los_Angeles:20260301T213000
DTSTAMP:20260420T042730
CREATED:20250406T071742Z
LAST-MODIFIED:20250406T075105Z
UID:10004682-1772393400-1772400600@sanjosebahai.org
SUMMARY:Ala (Loftiness)
DESCRIPTION:Ala (Loftiness) is a significant Baha’i observance that celebrates the attributes of God and the spiritual qualities that uplift the human spirit. It is a time for reflection and community gathering\, where participants can deepen their understanding of the teachings of Baha’u’llah. Join us for this meaningful occasion.\nMar 01\, 2026\n07:30 PM – 09:30 PM\nSan Jose Baha’i Center
URL:https://sanjosebahai.org/event/ala-loftiness/
LOCATION:San Jose Bahá’í Center\, 945 Willow Street\, San Jose\, CA\, 95125\, United States
CATEGORIES:Feast
END:VEVENT
BEGIN:VEVENT
DTSTART;TZID=America/Los_Angeles:20260308T103000
DTEND;TZID=America/Los_Angeles:20260308T113000
DTSTAMP:20260420T042730
CREATED:20260224T164423Z
LAST-MODIFIED:20260224T164540Z
UID:10003252-1772965800-1772969400@sanjosebahai.org
SUMMARY:Weekly Online Deepening: November 28 Letter from the House of Justice
DESCRIPTION:Please join in for this week’s Zoom deepening on Sunday from 10:30 to 11:30 AM.\n\n\nThis Message is the cover story of the Jan/Feb edition of the American Baha’i. It’s the longest-ever Message written by the Universal House of Justice in 60 years.\n>Feel free to invite other Friends. \n\n\n\nJOIN Zoom Meeting: https://zoom.us/j/97509747053?pwd=WisrbXdJNHl0UHNvWUg2bFM0RWVldz09\n\nLinks to study materials: \n\nNational Spiritual Assembly Encourages Study of the Supreme Body’s November 28 Letter\nReflections on the First Century of the Formative Age
URL:https://sanjosebahai.org/event/weekly-online-deepening-november-28-letter-from-the-house-of-justice-2-2/2026-03-08/
LOCATION:Online
CATEGORIES:Community Activities,Deepening,Online Event,Study Circle
ATTACH;FMTTYPE=image/jpeg:https://sanjosebahai.org/wp-content/uploads/2021/05/999991B4-1363-4D6D-ABCF-A7E6AB473945.jpeg
ORGANIZER;CN="Jim Mulvaney - Sunnyvale":MAILTO:jim@jimmulvaney-ft.com
END:VEVENT
BEGIN:VEVENT
DTSTART;TZID=America/Los_Angeles:20260313T183000
DTEND;TZID=America/Los_Angeles:20260313T213000
DTSTAMP:20260420T042730
CREATED:20260227T065922Z
LAST-MODIFIED:20260227T065922Z
UID:10005846-1773426600-1773437400@sanjosebahai.org
SUMMARY:Fireside Friday March 13th
DESCRIPTION:Please join us at the home of Guity Jam: \nFriday March 13th \n6:30pm Potluck dinner\, devotional and Fireside \nSpeaker: Dr. Juan-Carlos Portillo \nTopic: The reality of man is his thought-how does that relate to our health and well- being? \n  \nPlease RSVP to Guity Jam
URL:https://sanjosebahai.org/event/fireside-friday-march-13th/
LOCATION:Guity Jam’s Home\, San Jose\, United States
CATEGORIES:Firesides
ORGANIZER;CN="Guity Jam":MAILTO:guityjam@gmail.com
END:VEVENT
BEGIN:VEVENT
DTSTART;TZID=America/Los_Angeles:20260315T103000
DTEND;TZID=America/Los_Angeles:20260315T113000
DTSTAMP:20260420T042730
CREATED:20260224T164423Z
LAST-MODIFIED:20260224T164540Z
UID:10003253-1773570600-1773574200@sanjosebahai.org
SUMMARY:Weekly Online Deepening: November 28 Letter from the House of Justice
DESCRIPTION:Please join in for this week’s Zoom deepening on Sunday from 10:30 to 11:30 AM.\n\n\nThis Message is the cover story of the Jan/Feb edition of the American Baha’i. It’s the longest-ever Message written by the Universal House of Justice in 60 years.\n>Feel free to invite other Friends. \n\n\n\nJOIN Zoom Meeting: https://zoom.us/j/97509747053?pwd=WisrbXdJNHl0UHNvWUg2bFM0RWVldz09\n\nLinks to study materials: \n\nNational Spiritual Assembly Encourages Study of the Supreme Body’s November 28 Letter\nReflections on the First Century of the Formative Age
URL:https://sanjosebahai.org/event/weekly-online-deepening-november-28-letter-from-the-house-of-justice-2-2/2026-03-15/
LOCATION:Online
CATEGORIES:Community Activities,Deepening,Online Event,Study Circle
ATTACH;FMTTYPE=image/jpeg:https://sanjosebahai.org/wp-content/uploads/2021/05/999991B4-1363-4D6D-ABCF-A7E6AB473945.jpeg
ORGANIZER;CN="Jim Mulvaney - Sunnyvale":MAILTO:jim@jimmulvaney-ft.com
END:VEVENT
BEGIN:VEVENT
DTSTART;TZID=America/Los_Angeles:20260320T193000
DTEND;TZID=America/Los_Angeles:20260320T213000
DTSTAMP:20260420T042730
CREATED:20250406T071742Z
LAST-MODIFIED:20250406T075105Z
UID:10004683-1774035000-1774042200@sanjosebahai.org
SUMMARY:Baha (Splendor) - 183 BE
DESCRIPTION:Baha (Splendor) – 183 BE is a special gathering to commemorate the significance of the Baha’i Faith and reflect on its teachings. This event will provide an opportunity for community members to come together in unity and deepen their understanding of the principles of love and service. We warmly invite you to join us for this meaningful occasion.\nMar 20\, 2026\n07:30 PM – 09:30 PM\nSan Jose Baha’i Center
URL:https://sanjosebahai.org/event/baha-splendor-183-be/
LOCATION:San Jose Bahá’í Center\, 945 Willow Street\, San Jose\, CA\, 95125\, United States
CATEGORIES:Feast
END:VEVENT
BEGIN:VEVENT
DTSTART;TZID=America/Los_Angeles:20260321T150000
DTEND;TZID=America/Los_Angeles:20260321T170000
DTSTAMP:20260420T042730
CREATED:20250406T071742Z
LAST-MODIFIED:20260311T235839Z
UID:10004684-1774105200-1774112400@sanjosebahai.org
SUMMARY:Naw Ruz - 183 BE
DESCRIPTION:Naw Ruz – 183 BE\nJoin us in celebrating Naw Ruz\, the Baha’i New Year\, a time of renewal and joy that marks the beginning of the Baha’i calendar. This special occasion is an opportunity for reflection\, community gathering\, and the sharing of blessings as we welcome the new year together. \nWe will be having tea and refreshments during this celebration. \nMar 21\, 2026\n03:00 PM – 05:00 PM\nSan Jose Baha’i Center
URL:https://sanjosebahai.org/event/naw-ruz-183-be/
LOCATION:San Jose Bahá’í Center\, 945 Willow Street\, San Jose\, CA\, 95125\, United States
CATEGORIES:Holy Days
ATTACH;FMTTYPE=image/jpeg:https://sanjosebahai.org/wp-content/uploads/2016/10/burtonburton_vandebilt-tea-set-744.jpg
END:VEVENT
BEGIN:VEVENT
DTSTART;TZID=America/Los_Angeles:20260322T103000
DTEND;TZID=America/Los_Angeles:20260322T113000
DTSTAMP:20260420T042730
CREATED:20260224T164423Z
LAST-MODIFIED:20260224T164540Z
UID:10003254-1774175400-1774179000@sanjosebahai.org
SUMMARY:Weekly Online Deepening: November 28 Letter from the House of Justice
DESCRIPTION:Please join in for this week’s Zoom deepening on Sunday from 10:30 to 11:30 AM.\n\n\nThis Message is the cover story of the Jan/Feb edition of the American Baha’i. It’s the longest-ever Message written by the Universal House of Justice in 60 years.\n>Feel free to invite other Friends. \n\n\n\nJOIN Zoom Meeting: https://zoom.us/j/97509747053?pwd=WisrbXdJNHl0UHNvWUg2bFM0RWVldz09\n\nLinks to study materials: \n\nNational Spiritual Assembly Encourages Study of the Supreme Body’s November 28 Letter\nReflections on the First Century of the Formative Age
URL:https://sanjosebahai.org/event/weekly-online-deepening-november-28-letter-from-the-house-of-justice-2-2/2026-03-22/
LOCATION:Online
CATEGORIES:Community Activities,Deepening,Online Event,Study Circle
ATTACH;FMTTYPE=image/jpeg:https://sanjosebahai.org/wp-content/uploads/2021/05/999991B4-1363-4D6D-ABCF-A7E6AB473945.jpeg
ORGANIZER;CN="Jim Mulvaney - Sunnyvale":MAILTO:jim@jimmulvaney-ft.com
END:VEVENT
BEGIN:VEVENT
DTSTART;TZID=America/Los_Angeles:20260328T180000
DTEND;TZID=America/Los_Angeles:20260328T210000
DTSTAMP:20260420T042730
CREATED:20260208T015900Z
LAST-MODIFIED:20260208T015902Z
UID:10000588-1774720800-1774731600@sanjosebahai.org
SUMMARY:Game Night!
DESCRIPTION:Lovingly hosted by the Mousazadeh family\, Game Nights are on the last Saturday of the month at the Baha’i  Center in San Jose (address below). \nCome one\, come all and bring your favorite board\, card\, and parlor games to share. \nFun\, food\, and fellowship for all ages!
URL:https://sanjosebahai.org/event/game-nights-are-back-2/2026-03-28/
LOCATION:San Jose Bahá’í Center\, 945 Willow Street\, San Jose\, CA\, 95125\, United States
CATEGORIES:Community Activities,In-Person Event,Social Event
ATTACH;FMTTYPE=image/jpeg:https://sanjosebahai.org/wp-content/uploads/2018/02/61uImDBd7L._SX425_.jpg
END:VEVENT
BEGIN:VEVENT
DTSTART;TZID=America/Los_Angeles:20260329T103000
DTEND;TZID=America/Los_Angeles:20260329T113000
DTSTAMP:20260420T042730
CREATED:20260224T164423Z
LAST-MODIFIED:20260224T164540Z
UID:10003255-1774780200-1774783800@sanjosebahai.org
SUMMARY:Weekly Online Deepening: November 28 Letter from the House of Justice
DESCRIPTION:Please join in for this week’s Zoom deepening on Sunday from 10:30 to 11:30 AM.\n\n\nThis Message is the cover story of the Jan/Feb edition of the American Baha’i. It’s the longest-ever Message written by the Universal House of Justice in 60 years.\n>Feel free to invite other Friends. \n\n\n\nJOIN Zoom Meeting: https://zoom.us/j/97509747053?pwd=WisrbXdJNHl0UHNvWUg2bFM0RWVldz09\n\nLinks to study materials: \n\nNational Spiritual Assembly Encourages Study of the Supreme Body’s November 28 Letter\nReflections on the First Century of the Formative Age
URL:https://sanjosebahai.org/event/weekly-online-deepening-november-28-letter-from-the-house-of-justice-2-2/2026-03-29/
LOCATION:Online
CATEGORIES:Community Activities,Deepening,Online Event,Study Circle
ATTACH;FMTTYPE=image/jpeg:https://sanjosebahai.org/wp-content/uploads/2021/05/999991B4-1363-4D6D-ABCF-A7E6AB473945.jpeg
ORGANIZER;CN="Jim Mulvaney - Sunnyvale":MAILTO:jim@jimmulvaney-ft.com
END:VEVENT
END:VCALENDAR