BEGIN:VCALENDAR
VERSION:2.0
PRODID:-//San José Bahá&#039;í Community - ECPv6.15.20//NONSGML v1.0//EN
CALSCALE:GREGORIAN
METHOD:PUBLISH
X-ORIGINAL-URL:https://sanjosebahai.org
X-WR-CALDESC:Events for San José Bahá&#039;í Community
REFRESH-INTERVAL;VALUE=DURATION:PT1H
X-Robots-Tag:noindex
X-PUBLISHED-TTL:PT1H
BEGIN:VTIMEZONE
TZID:America/Los_Angeles
BEGIN:DAYLIGHT
TZOFFSETFROM:-0800
TZOFFSETTO:-0700
TZNAME:PDT
DTSTART:20250309T100000
END:DAYLIGHT
BEGIN:STANDARD
TZOFFSETFROM:-0700
TZOFFSETTO:-0800
TZNAME:PST
DTSTART:20251102T090000
END:STANDARD
BEGIN:DAYLIGHT
TZOFFSETFROM:-0800
TZOFFSETTO:-0700
TZNAME:PDT
DTSTART:20260308T100000
END:DAYLIGHT
BEGIN:STANDARD
TZOFFSETFROM:-0700
TZOFFSETTO:-0800
TZNAME:PST
DTSTART:20261101T090000
END:STANDARD
BEGIN:DAYLIGHT
TZOFFSETFROM:-0800
TZOFFSETTO:-0700
TZNAME:PDT
DTSTART:20270314T100000
END:DAYLIGHT
BEGIN:STANDARD
TZOFFSETFROM:-0700
TZOFFSETTO:-0800
TZNAME:PST
DTSTART:20271107T090000
END:STANDARD
END:VTIMEZONE
BEGIN:VEVENT
DTSTART;TZID=America/Los_Angeles:20260201T103000
DTEND;TZID=America/Los_Angeles:20260201T113000
DTSTAMP:20260420T063206
CREATED:20250908T200737Z
LAST-MODIFIED:20250908T201141Z
UID:10003247-1769941800-1769945400@sanjosebahai.org
SUMMARY:Weekly Online Deepening: November 28 Letter from the House of Justice
DESCRIPTION:Please join in for this week’s Zoom deepening on Sunday from 10:30 to 11:30 AM.\n\n\nThis Message is the cover story of the Jan/Feb edition of the American Baha’i. It’s the longest-ever Message written by the Universal House of Justice in 60 years.\n>Feel free to invite other Friends. \n\n\n\nJOIN Zoom Meeting: https://zoom.us/j/97509747053?pwd=WisrbXdJNHl0UHNvWUg2bFM0RWVldz09\n\nLinks to study materials: \n\nNational Spiritual Assembly Encourages Study of the Supreme Body’s November 28 Letter\nReflections on the First Century of the Formative Age
URL:https://sanjosebahai.org/event/weekly-online-deepening-november-28-letter-from-the-house-of-justice-2/2026-02-01/
LOCATION:Online
CATEGORIES:Community Activities,Deepening,Online Event,Study Circle
ATTACH;FMTTYPE=image/jpeg:https://sanjosebahai.org/wp-content/uploads/2021/05/999991B4-1363-4D6D-ABCF-A7E6AB473945.jpeg
ORGANIZER;CN="Jim Mulvaney - Sunnyvale":MAILTO:jim@jimmulvaney-ft.com
END:VEVENT
BEGIN:VEVENT
DTSTART;TZID=America/Los_Angeles:20260206T193000
DTEND;TZID=America/Los_Angeles:20260206T213000
DTSTAMP:20260420T063206
CREATED:20250406T071647Z
LAST-MODIFIED:20250406T075103Z
UID:10004680-1770406200-1770413400@sanjosebahai.org
SUMMARY:Mulk (Dominion)
DESCRIPTION:Mulk (Dominion) is a significant Baha’i observance that reflects on the attributes of God and the importance of justice and equity in our lives. It is a time for community reflection and spiritual growth. Join us as we gather to honor this sacred occasion.\nFeb 06\, 2026\n07:30 PM – 09:30 PM\nSan Jose Baha’i Center
URL:https://sanjosebahai.org/event/mulk-dominion/
LOCATION:San Jose Bahá’í Center\, 945 Willow Street\, San Jose\, CA\, 95125\, United States
CATEGORIES:Feast
END:VEVENT
BEGIN:VEVENT
DTSTART;TZID=America/Los_Angeles:20260208T103000
DTEND;TZID=America/Los_Angeles:20260208T113000
DTSTAMP:20260420T063206
CREATED:20250908T200737Z
LAST-MODIFIED:20250908T201141Z
UID:10003248-1770546600-1770550200@sanjosebahai.org
SUMMARY:Weekly Online Deepening: November 28 Letter from the House of Justice
DESCRIPTION:Please join in for this week’s Zoom deepening on Sunday from 10:30 to 11:30 AM.\n\n\nThis Message is the cover story of the Jan/Feb edition of the American Baha’i. It’s the longest-ever Message written by the Universal House of Justice in 60 years.\n>Feel free to invite other Friends. \n\n\n\nJOIN Zoom Meeting: https://zoom.us/j/97509747053?pwd=WisrbXdJNHl0UHNvWUg2bFM0RWVldz09\n\nLinks to study materials: \n\nNational Spiritual Assembly Encourages Study of the Supreme Body’s November 28 Letter\nReflections on the First Century of the Formative Age
URL:https://sanjosebahai.org/event/weekly-online-deepening-november-28-letter-from-the-house-of-justice-2/2026-02-08/
LOCATION:Online
CATEGORIES:Community Activities,Deepening,Online Event,Study Circle
ATTACH;FMTTYPE=image/jpeg:https://sanjosebahai.org/wp-content/uploads/2021/05/999991B4-1363-4D6D-ABCF-A7E6AB473945.jpeg
ORGANIZER;CN="Jim Mulvaney - Sunnyvale":MAILTO:jim@jimmulvaney-ft.com
END:VEVENT
BEGIN:VEVENT
DTSTART;TZID=America/Los_Angeles:20260213T183000
DTEND;TZID=America/Los_Angeles:20260213T210000
DTSTAMP:20260420T063206
CREATED:20260117T063234Z
LAST-MODIFIED:20260117T063234Z
UID:10005776-1771007400-1771016400@sanjosebahai.org
SUMMARY:Fireside Friday Feb 13th
DESCRIPTION:Please join us for potluck dinner\, devotional and Fireside. \nFriday February 13th \n6:30pm Dinner\, followed by devotions and Fireside \nSpeaker: Mrs. Maya Bonhoff \nTopic: Is Baha’u’llah the Return of Christ? \nRSVP to Guity Jam \n 
URL:https://sanjosebahai.org/event/fireside-friday-feb-13th/
LOCATION:Guity Jam’s Home\, San Jose\, United States
CATEGORIES:Firesides
ORGANIZER;CN="Bah%C3%A1'%C3%ADs of San Jose":MAILTO:secretariat@sanjosebahai.org
END:VEVENT
BEGIN:VEVENT
DTSTART;TZID=America/Los_Angeles:20260215T103000
DTEND;TZID=America/Los_Angeles:20260215T113000
DTSTAMP:20260420T063206
CREATED:20250908T200737Z
LAST-MODIFIED:20250908T201141Z
UID:10003249-1771151400-1771155000@sanjosebahai.org
SUMMARY:Weekly Online Deepening: November 28 Letter from the House of Justice
DESCRIPTION:Please join in for this week’s Zoom deepening on Sunday from 10:30 to 11:30 AM.\n\n\nThis Message is the cover story of the Jan/Feb edition of the American Baha’i. It’s the longest-ever Message written by the Universal House of Justice in 60 years.\n>Feel free to invite other Friends. \n\n\n\nJOIN Zoom Meeting: https://zoom.us/j/97509747053?pwd=WisrbXdJNHl0UHNvWUg2bFM0RWVldz09\n\nLinks to study materials: \n\nNational Spiritual Assembly Encourages Study of the Supreme Body’s November 28 Letter\nReflections on the First Century of the Formative Age
URL:https://sanjosebahai.org/event/weekly-online-deepening-november-28-letter-from-the-house-of-justice-2/2026-02-15/
LOCATION:Online
CATEGORIES:Community Activities,Deepening,Online Event,Study Circle
ATTACH;FMTTYPE=image/jpeg:https://sanjosebahai.org/wp-content/uploads/2021/05/999991B4-1363-4D6D-ABCF-A7E6AB473945.jpeg
ORGANIZER;CN="Jim Mulvaney - Sunnyvale":MAILTO:jim@jimmulvaney-ft.com
END:VEVENT
BEGIN:VEVENT
DTSTART;TZID=America/Los_Angeles:20260215T140000
DTEND;TZID=America/Los_Angeles:20260215T170000
DTSTAMP:20260420T063206
CREATED:20260124T053350Z
LAST-MODIFIED:20260207T001630Z
UID:10005784-1771164000-1771174800@sanjosebahai.org
SUMMARY:Introductory Community Study of Dec. 31st Letter to the Counselors
DESCRIPTION:The Local Spiritual Assembly of the Baha’is of San Jose will host an introductory session to study the recent letter\, dated December 31st\, 2025 from the Universal House of Justice to the Boards of Continental Counselors on the occasion of their recent conference. The study will be in both English and Persian. \nThe program will begin with a viewing of the 2025 in Review video prepared by the Baha’i International Community offices\, followed by a breakout into smaller groups in the classrooms for a focused study of the letter with an eye to “putting what hath been written into reality and action” as Baha’u’llah has written. The goal is to generate programs that we can carry out in collaboration with the larger community. At the end of the session\, we’ll reconvene to share ideas and plan for next steps. \nRefreshments will be provided. \nWHEN:  Sunday\, February 15\, 2026 from 2:00 PM to 5:00 PM \nWHERE: San Jose Baha’i Center\, 945 Willow Street
URL:https://sanjosebahai.org/event/introductory-community-study-of-dec-31st-letter-to-the-counselors/
LOCATION:San Jose Bahá’í Center\, 945 Willow Street\, San Jose\, CA\, 95125\, United States
CATEGORIES:Deepening,Reflection Gathering
ATTACH;FMTTYPE=image/jpeg:https://sanjosebahai.org/wp-content/uploads/2026/01/One-Faith-BT.jpg
ORGANIZER;CN="Bah%C3%A1'%C3%ADs of San Jose":MAILTO:secretariat@sanjosebahai.org
END:VEVENT
BEGIN:VEVENT
DTSTART;TZID=America/Los_Angeles:20260220T183000
DTEND;TZID=America/Los_Angeles:20260220T210000
DTSTAMP:20260420T063206
CREATED:20260124T053349Z
LAST-MODIFIED:20260206T222055Z
UID:10005783-1771612200-1771621200@sanjosebahai.org
SUMMARY:Study of the Dec 31st Letter to the Counselors
DESCRIPTION:At the behest of our global institutions\, the Auxiliary Board is hosting a study of the December 31st\, 2025 letter from the Universal House of Justice to the conference of the Continental Boards of Counselors. \nThis important event will be held at the San Jose Baha’i Center on February 20th beginning at 6:30 PM with dinner\, followed by a program facilitated by the Area Teaching Committee and ABM. \n 
URL:https://sanjosebahai.org/event/study-of-the-dec-31st-letter-to-the-counselors/
LOCATION:San Jose Bahá’í Center\, 945 Willow Street\, San Jose\, CA\, 95125\, United States
CATEGORIES:Cluster Activities,Deepening
ATTACH;FMTTYPE=image/jpeg:https://sanjosebahai.org/wp-content/uploads/2026/01/World-Center-Arc-sm.jpg
END:VEVENT
BEGIN:VEVENT
DTSTART;TZID=America/Los_Angeles:20260222T103000
DTEND;TZID=America/Los_Angeles:20260222T113000
DTSTAMP:20260420T063206
CREATED:20250908T200737Z
LAST-MODIFIED:20250908T201141Z
UID:10003250-1771756200-1771759800@sanjosebahai.org
SUMMARY:Weekly Online Deepening: November 28 Letter from the House of Justice
DESCRIPTION:Please join in for this week’s Zoom deepening on Sunday from 10:30 to 11:30 AM.\n\n\nThis Message is the cover story of the Jan/Feb edition of the American Baha’i. It’s the longest-ever Message written by the Universal House of Justice in 60 years.\n>Feel free to invite other Friends. \n\n\n\nJOIN Zoom Meeting: https://zoom.us/j/97509747053?pwd=WisrbXdJNHl0UHNvWUg2bFM0RWVldz09\n\nLinks to study materials: \n\nNational Spiritual Assembly Encourages Study of the Supreme Body’s November 28 Letter\nReflections on the First Century of the Formative Age
URL:https://sanjosebahai.org/event/weekly-online-deepening-november-28-letter-from-the-house-of-justice-2/2026-02-22/
LOCATION:Online
CATEGORIES:Community Activities,Deepening,Online Event,Study Circle
ATTACH;FMTTYPE=image/jpeg:https://sanjosebahai.org/wp-content/uploads/2021/05/999991B4-1363-4D6D-ABCF-A7E6AB473945.jpeg
ORGANIZER;CN="Jim Mulvaney - Sunnyvale":MAILTO:jim@jimmulvaney-ft.com
END:VEVENT
END:VCALENDAR